BEGIN:VCALENDAR
VERSION:2.0
PRODID:-//Langley Air Force Base - ECPv6.15.20//NONSGML v1.0//EN
CALSCALE:GREGORIAN
METHOD:PUBLISH
X-WR-CALNAME:Langley Air Force Base
X-ORIGINAL-URL:https://jbleforcesupport.com
X-WR-CALDESC:Events for Langley Air Force Base
REFRESH-INTERVAL;VALUE=DURATION:PT1H
X-Robots-Tag:noindex
X-PUBLISHED-TTL:PT1H
BEGIN:VTIMEZONE
TZID:UTC
BEGIN:STANDARD
TZOFFSETFROM:+0000
TZOFFSETTO:+0000
TZNAME:UTC
DTSTART:20250101T000000
END:STANDARD
END:VTIMEZONE
BEGIN:VEVENT
DTSTART;TZID=UTC:20260126T113000
DTEND;TZID=UTC:20270129T123000
DTSTAMP:20260423T014500
CREATED:20260105T191750Z
LAST-MODIFIED:20260105T191750Z
UID:10007617-1769427000-1801225800@jbleforcesupport.com
SUMMARY:Back 2 Basics: Active Duty Fitness Program
DESCRIPTION:An eight-week guided training program led by physical training instructors that includes a variety of energy\, strength\, and cardio routines. Accompanied by nutritional guidance and tracking. \nOpen to all active duty military 17+. Class sign-up deadline is the Wednesday before the start of class. \nTo sign up: https://www.signupgenius.com/go/10C084DABAE2CA4F9C61-53737007-back#/ \nClass Dates:  \n26 January – 20 March\n30 March – 22 May\n1 June – 24 July\n3 August – 25 September\n5 October – 27 November\n7 December – 29 January
URL:https://jbleforcesupport.com/event/back-2-basics-active-duty-fitness-program/
LOCATION:ACC Fitness Center\, 216 Dodd Blvd #658\, Langley AFB\, VA\, 23665\, United States
CATEGORIES:ACC Fitness Center,Fitness,Shellback Fitness Center
END:VEVENT
BEGIN:VEVENT
DTSTART;TZID=UTC:20260323T080000
DTEND;TZID=UTC:20260619T170000
DTSTAMP:20260423T014500
CREATED:20260220T190849Z
LAST-MODIFIED:20260220T190849Z
UID:10007756-1774252800-1781888400@jbleforcesupport.com
SUMMARY:Outdoor Recreation Spring Rentals
DESCRIPTION:Canoes\, kayaks & paddleboards. \nCost: $30 daily fee\, $45 weekend fee
URL:https://jbleforcesupport.com/event/outdoor-recreation-spring-rentals/
LOCATION:Langley Outdoor Recreation\, 77 Holly Street\, Langley AFB\, 23665
CATEGORIES:Fun,November,Outdoor Recreation
ATTACH;FMTTYPE=image/jpeg:https://jbleforcesupport.com/wp-content/uploads/2026/02/0323-0619-Spring-Rentals_web.jpg
END:VEVENT
BEGIN:VEVENT
DTSTART;TZID=UTC:20260423T080000
DTEND;TZID=UTC:20260423T170000
DTSTAMP:20260423T014500
CREATED:20260325T171723Z
LAST-MODIFIED:20260325T171736Z
UID:10007876-1776931200-1776963600@jbleforcesupport.com
SUMMARY:April Fools Day
DESCRIPTION:From April 1St to30th\, place your joke in the joke jar at the entryway of the Riverview Event Center\, for a chance to win a prize! \nTwo drawings every week starting April 27th\, and the winner is announced on May 1st!
URL:https://jbleforcesupport.com/event/april-fools-day/2026-04-23/
LOCATION:Riverview Event Center\, 128 Benedict Ave
CATEGORIES:November
ATTACH;FMTTYPE=image/jpeg:https://jbleforcesupport.com/wp-content/uploads/2026/03/0401-0430-April-Fools-Day-Joke-Jar_web.jpg
END:VEVENT
BEGIN:VEVENT
DTSTART;TZID=UTC:20260423T110000
DTEND;TZID=UTC:20260423T140000
DTSTAMP:20260423T014500
CREATED:20250129T185820Z
LAST-MODIFIED:20250130T162815Z
UID:10001920-1776942000-1776952800@jbleforcesupport.com
SUMMARY:Lunch & Bowl
DESCRIPTION:Wednesday through Friday buy a full meal & enjoy bowling for just a $1! \nShoes not included
URL:https://jbleforcesupport.com/event/lunch-bowl/2026-04-23/
LOCATION:Langley Lanes Bowling Center\, 75 Nealy Ave\, Langley AFB\, 23665
CATEGORIES:Langley Lanes
ATTACH;FMTTYPE=image/jpeg:https://jbleforcesupport.com/wp-content/uploads/2025/01/0025-ONGOING-LL-Lunch-Bowl_web.jpg
END:VEVENT
BEGIN:VEVENT
DTSTART;TZID=UTC:20260423T163000
DTEND;TZID=UTC:20260423T180000
DTSTAMP:20260423T014500
CREATED:20260326T141629Z
LAST-MODIFIED:20260326T141629Z
UID:10008254-1776961800-1776967200@jbleforcesupport.com
SUMMARY:Easil-y Does It Painting Class
DESCRIPTION:Join the Community Program for an instruction-led painting class with all supplies provided. Plus\, decorate your own picture frame at our station using crayons\, markers\, and more – supplies included. \nFree for ages 12+ \nRegister by April 21St 
URL:https://jbleforcesupport.com/event/easil-y-does-it-painting-class/
LOCATION:Community Programs\, 128 Benedict Ave\, Langley AFB\, 23665
CATEGORIES:Family,Fun,Riverview Event Center
ATTACH;FMTTYPE=image/jpeg:https://jbleforcesupport.com/wp-content/uploads/2026/03/0423-Easil-y-Does-It-Painting-Class_web.jpg
END:VEVENT
BEGIN:VEVENT
DTSTART;TZID=UTC:20260423T173000
DTEND;TZID=UTC:20260423T193000
DTSTAMP:20260423T014500
CREATED:20250317T141826Z
LAST-MODIFIED:20250317T141826Z
UID:10006727-1776965400-1776972600@jbleforcesupport.com
SUMMARY:1730 PGA HOPE
DESCRIPTION:A gathering of PGA HOPE Graduates\, Veterans\, Active Duty\, their guests\, friends and family \nA FUN social golf experience on Thursday evenings beginning 20 March 2025 at Eaglewood GC. All skill levels are welcome! \n Every Thursday\, nine holes of golf. \n$21 TO RIDE 9 OR $15 TO WALK \nREGISTER ON THE EAGLEWOOD APP
URL:https://jbleforcesupport.com/event/1730-pga-hope/2026-04-23/
LOCATION:Eaglewood Golf Course\, 630 Weyland Rd\, Langley AFB\, VA\, 23665\, United States
CATEGORIES:Eaglewood,Fun
ATTACH;FMTTYPE=image/jpeg:https://jbleforcesupport.com/wp-content/uploads/2025/03/0320-1730-PGA-HOPE_web.jpg
END:VEVENT
END:VCALENDAR