BEGIN:VCALENDAR
VERSION:2.0
PRODID:-//Langley Air Force Base - ECPv6.15.20//NONSGML v1.0//EN
CALSCALE:GREGORIAN
METHOD:PUBLISH
X-WR-CALNAME:Langley Air Force Base
X-ORIGINAL-URL:https://jbleforcesupport.com
X-WR-CALDESC:Events for Langley Air Force Base
REFRESH-INTERVAL;VALUE=DURATION:PT1H
X-Robots-Tag:noindex
X-PUBLISHED-TTL:PT1H
BEGIN:VTIMEZONE
TZID:UTC
BEGIN:STANDARD
TZOFFSETFROM:+0000
TZOFFSETTO:+0000
TZNAME:UTC
DTSTART:20250101T000000
END:STANDARD
END:VTIMEZONE
BEGIN:VEVENT
DTSTART;TZID=UTC:20260126T113000
DTEND;TZID=UTC:20270129T123000
DTSTAMP:20260424T014905
CREATED:20260105T191750Z
LAST-MODIFIED:20260105T191750Z
UID:10007617-1769427000-1801225800@jbleforcesupport.com
SUMMARY:Back 2 Basics: Active Duty Fitness Program
DESCRIPTION:An eight-week guided training program led by physical training instructors that includes a variety of energy\, strength\, and cardio routines. Accompanied by nutritional guidance and tracking. \nOpen to all active duty military 17+. Class sign-up deadline is the Wednesday before the start of class. \nTo sign up: https://www.signupgenius.com/go/10C084DABAE2CA4F9C61-53737007-back#/ \nClass Dates:  \n26 January – 20 March\n30 March – 22 May\n1 June – 24 July\n3 August – 25 September\n5 October – 27 November\n7 December – 29 January
URL:https://jbleforcesupport.com/event/back-2-basics-active-duty-fitness-program/
LOCATION:ACC Fitness Center\, 216 Dodd Blvd #658\, Langley AFB\, VA\, 23665\, United States
CATEGORIES:ACC Fitness Center,Fitness,Shellback Fitness Center
END:VEVENT
BEGIN:VEVENT
DTSTART;TZID=UTC:20260323T080000
DTEND;TZID=UTC:20260619T170000
DTSTAMP:20260424T014905
CREATED:20260220T190849Z
LAST-MODIFIED:20260220T190849Z
UID:10007756-1774252800-1781888400@jbleforcesupport.com
SUMMARY:Outdoor Recreation Spring Rentals
DESCRIPTION:Canoes\, kayaks & paddleboards. \nCost: $30 daily fee\, $45 weekend fee
URL:https://jbleforcesupport.com/event/outdoor-recreation-spring-rentals/
LOCATION:Langley Outdoor Recreation\, 77 Holly Street\, Langley AFB\, 23665
CATEGORIES:Fun,November,Outdoor Recreation
ATTACH;FMTTYPE=image/jpeg:https://jbleforcesupport.com/wp-content/uploads/2026/02/0323-0619-Spring-Rentals_web.jpg
END:VEVENT
BEGIN:VEVENT
DTSTART;TZID=UTC:20260424T080000
DTEND;TZID=UTC:20260424T170000
DTSTAMP:20260424T014905
CREATED:20260325T171723Z
LAST-MODIFIED:20260325T171736Z
UID:10007877-1777017600-1777050000@jbleforcesupport.com
SUMMARY:April Fools Day
DESCRIPTION:From April 1St to30th\, place your joke in the joke jar at the entryway of the Riverview Event Center\, for a chance to win a prize! \nTwo drawings every week starting April 27th\, and the winner is announced on May 1st!
URL:https://jbleforcesupport.com/event/april-fools-day/2026-04-24/
LOCATION:Riverview Event Center\, 128 Benedict Ave
CATEGORIES:November
ATTACH;FMTTYPE=image/jpeg:https://jbleforcesupport.com/wp-content/uploads/2026/03/0401-0430-April-Fools-Day-Joke-Jar_web.jpg
END:VEVENT
BEGIN:VEVENT
DTSTART;TZID=UTC:20260424T110000
DTEND;TZID=UTC:20260424T140000
DTSTAMP:20260424T014905
CREATED:20250129T185820Z
LAST-MODIFIED:20250130T162815Z
UID:10001921-1777028400-1777039200@jbleforcesupport.com
SUMMARY:Lunch & Bowl
DESCRIPTION:Wednesday through Friday buy a full meal & enjoy bowling for just a $1! \nShoes not included
URL:https://jbleforcesupport.com/event/lunch-bowl/2026-04-24/
LOCATION:Langley Lanes Bowling Center\, 75 Nealy Ave\, Langley AFB\, 23665
CATEGORIES:Langley Lanes
ATTACH;FMTTYPE=image/jpeg:https://jbleforcesupport.com/wp-content/uploads/2025/01/0025-ONGOING-LL-Lunch-Bowl_web.jpg
END:VEVENT
BEGIN:VEVENT
DTSTART;TZID=UTC:20260424T170000
DTEND;TZID=UTC:20260424T180000
DTSTAMP:20260424T014905
CREATED:20250129T193024Z
LAST-MODIFIED:20250129T193024Z
UID:10002898-1777050000-1777053600@jbleforcesupport.com
SUMMARY:Jiu Jitsu Self Defense Classes
DESCRIPTION:Get ready to roll! \nLearn effective self-defense techniques\, enhance physical fitness & mental resilience\, develop discipline\, focus & confidence\, and connect with your community in a supportive environment! \nInstructor: Zachary Darroch – IBJJF Black Belt with The Academy/Honey Badger BJJ Las Vegas\, NV (certification #79742) \nFree and open to all with base access! 
URL:https://jbleforcesupport.com/event/jiu-jitsu-self-defense-classes-2/2026-04-24/
LOCATION:ACC Fitness Center\, 216 Dodd Blvd #658\, Langley AFB\, VA\, 23665\, United States
CATEGORIES:ACC Fitness Center,Fitness
ATTACH;FMTTYPE=image/jpeg:https://jbleforcesupport.com/wp-content/uploads/2025/01/Ongoing-Jiu-Jitsu-Class_web.jpg
END:VEVENT
BEGIN:VEVENT
DTSTART;TZID=UTC:20260424T180000
DTEND;TZID=UTC:20260424T200000
DTSTAMP:20260424T014905
CREATED:20260128T192004Z
LAST-MODIFIED:20260128T192004Z
UID:10007689-1777053600-1777060800@jbleforcesupport.com
SUMMARY:Community Game Night
DESCRIPTION:Free and open to all! \nGames will be provided\, and food & beverage will be available for purchase. \nPre-register here: https://manager.gallusgolf.com/Register/77784/community-game-night
URL:https://jbleforcesupport.com/event/community-game-night/2026-04-24/
LOCATION:Eaglewood Golf Course\, 630 Weyland Rd\, Langley AFB\, VA\, 23665\, United States
CATEGORIES:Eaglewood,Fun,Hot Events,November
ATTACH;FMTTYPE=image/jpeg:https://jbleforcesupport.com/wp-content/uploads/2026/01/0227-Community-Game-Night_web.jpg
END:VEVENT
END:VCALENDAR