BEGIN:VCALENDAR
VERSION:2.0
PRODID:-//Langley Air Force Base - ECPv6.15.20//NONSGML v1.0//EN
CALSCALE:GREGORIAN
METHOD:PUBLISH
X-WR-CALNAME:Langley Air Force Base
X-ORIGINAL-URL:https://jbleforcesupport.com
X-WR-CALDESC:Events for Langley Air Force Base
REFRESH-INTERVAL;VALUE=DURATION:PT1H
X-Robots-Tag:noindex
X-PUBLISHED-TTL:PT1H
BEGIN:VTIMEZONE
TZID:UTC
BEGIN:STANDARD
TZOFFSETFROM:+0000
TZOFFSETTO:+0000
TZNAME:UTC
DTSTART:20250101T000000
END:STANDARD
END:VTIMEZONE
BEGIN:VEVENT
DTSTART;TZID=UTC:20260123T153000
DTEND;TZID=UTC:20260123T163000
DTSTAMP:20260422T070019
CREATED:20260105T134832Z
LAST-MODIFIED:20260105T134832Z
UID:10007594-1769182200-1769185800@jbleforcesupport.com
SUMMARY:Free Tire Mount & Balancing Class
DESCRIPTION:Detailed instructions on how to mount & balance vehicle tires.
URL:https://jbleforcesupport.com/event/free-tire-mount-balancing-class/
LOCATION:Langley Auto Skills\, 35 Ash Ave\, bldg 224\, Langley AFB\, 23665
CATEGORIES:Auto Skills,Family,November
ATTACH;FMTTYPE=image/jpeg:https://jbleforcesupport.com/wp-content/uploads/2026/01/0123-Free-Tire-Mount-and-Balancing-Class_web.jpg
END:VEVENT
BEGIN:VEVENT
DTSTART;TZID=UTC:20260128T103000
DTEND;TZID=UTC:20260128T113000
DTSTAMP:20260422T070019
CREATED:20260105T135336Z
LAST-MODIFIED:20260105T135337Z
UID:10007597-1769596200-1769599800@jbleforcesupport.com
SUMMARY:Story Time
DESCRIPTION:Join us Wednesdays at 10:30 am for stories\, songs\, and activities with new friends at the Bateman Library! January’s themes are jungle\, doctor\, and snow. Recommended for ages 5 & under.
URL:https://jbleforcesupport.com/event/story-time-3/2026-01-28/
LOCATION:Bateman Library\, 42 Ash Ave\, Langley AFB\, 23665
CATEGORIES:Family,Fun,November
ATTACH;FMTTYPE=image/png:https://jbleforcesupport.com/wp-content/uploads/2026/01/Website_-Story-Time.png
END:VEVENT
BEGIN:VEVENT
DTSTART;TZID=UTC:20260129T170000
DTEND;TZID=UTC:20260129T190000
DTSTAMP:20260422T070019
CREATED:20260105T184037Z
LAST-MODIFIED:20260105T184037Z
UID:10007604-1769706000-1769713200@jbleforcesupport.com
SUMMARY:Sewing Class: Pillowcases
DESCRIPTION:Sign-ups begin January 12. Limit of 15 people\, email required upon sign-up. \nFree for ages 15+. Children must be supervised. All participants must bring their sewing machine and fabric. \n 
URL:https://jbleforcesupport.com/event/sewing-class-pillowcases/
LOCATION:Community Programs\, 128 Benedict Ave\, Langley AFB\, 23665
CATEGORIES:Fun,November
ATTACH;FMTTYPE=image/jpeg:https://jbleforcesupport.com/wp-content/uploads/2026/01/0129-Sewing-Class_web.jpg
END:VEVENT
BEGIN:VEVENT
DTSTART;TZID=UTC:20260130T170000
DTEND;TZID=UTC:20260130T190000
DTSTAMP:20260422T070019
CREATED:20260105T185541Z
LAST-MODIFIED:20260105T185541Z
UID:10007608-1769792400-1769799600@jbleforcesupport.com
SUMMARY:Langley Magic Gathering
DESCRIPTION:Prepare your decks and gather your friends! Join us for epic nights of Magic: The Gathering \nGame Format: Chosen by player votes. Open to ages 15+
URL:https://jbleforcesupport.com/event/langley-magic-gathering/2026-01-30/
LOCATION:Community Programs\, 128 Benedict Ave\, Langley AFB\, 23665
CATEGORIES:November
ATTACH;FMTTYPE=image/jpeg:https://jbleforcesupport.com/wp-content/uploads/2026/01/0102-0327-Langley-Magic-Gathering_web.jpg
END:VEVENT
BEGIN:VEVENT
DTSTART;TZID=UTC:20260130T173000
DTEND;TZID=UTC:20260130T190000
DTSTAMP:20260422T070019
CREATED:20260105T144458Z
LAST-MODIFIED:20260105T144459Z
UID:10007601-1769794200-1769799600@jbleforcesupport.com
SUMMARY:Bingo At The Nose Dive
DESCRIPTION:Open to all! Card sales start at 5:30 PM\, games start at 6 PM. \n$5 per card. Cash prizes for winners\, 3 games total. \nChildren must be supervised at all times! Cash only. \n 
URL:https://jbleforcesupport.com/event/bingo-at-the-nose-dive/2026-01-30/
LOCATION:Community Programs\, 128 Benedict Ave\, Langley AFB\, 23665
CATEGORIES:Family,Fun,November
ATTACH;FMTTYPE=image/jpeg:https://jbleforcesupport.com/wp-content/uploads/2026/01/0109-0130-Bingo_web.jpg
END:VEVENT
END:VCALENDAR