BEGIN:VCALENDAR
VERSION:2.0
PRODID:-//Langley Air Force Base - ECPv6.15.20//NONSGML v1.0//EN
CALSCALE:GREGORIAN
METHOD:PUBLISH
X-WR-CALNAME:Langley Air Force Base
X-ORIGINAL-URL:https://jbleforcesupport.com
X-WR-CALDESC:Events for Langley Air Force Base
REFRESH-INTERVAL;VALUE=DURATION:PT1H
X-Robots-Tag:noindex
X-PUBLISHED-TTL:PT1H
BEGIN:VTIMEZONE
TZID:UTC
BEGIN:STANDARD
TZOFFSETFROM:+0000
TZOFFSETTO:+0000
TZNAME:UTC
DTSTART:20250101T000000
END:STANDARD
END:VTIMEZONE
BEGIN:VEVENT
DTSTART;TZID=UTC:20260204T173000
DTEND;TZID=UTC:20260204T190000
DTSTAMP:20260422T050448
CREATED:20260114T185953Z
LAST-MODIFIED:20260126T183423Z
UID:10007641-1770226200-1770231600@jbleforcesupport.com
SUMMARY:Free February Movie Nights
DESCRIPTION:February 4th\, A Big Bold Beautiful Journey (R) at  5:30 PM. \nFebruary 18th\, The Lorax (PG) at 5:30 PM \nFree popcorn for Club Members\, non-members $1 Popcorn (Cash Only)\, no outside food permitted. All outside drinks must have a lid. For more information\, call Community Programs. \n  \n 
URL:https://jbleforcesupport.com/event/free-february-movie-nights/2026-02-04/
LOCATION:Langley Base Theater\, 66 Nealy Ave\, Langley AFB\, 23665
CATEGORIES:November,Riverview Event Center
ATTACH;FMTTYPE=image/jpeg:https://jbleforcesupport.com/wp-content/uploads/2026/01/0204-0218-Free-February-Movies_web.jpg
END:VEVENT
BEGIN:VEVENT
DTSTART;TZID=UTC:20260205T100000
DTEND;TZID=UTC:20260205T150000
DTSTAMP:20260422T050448
CREATED:20260126T194729Z
LAST-MODIFIED:20260126T194729Z
UID:10007668-1770285600-1770303600@jbleforcesupport.com
SUMMARY:DMV Connect
DESCRIPTION:DMV Connect offers:\n-Real ID\n-Driver’s Licenses\n-ID Cards for adults and children\n-Disabled parking placards\n-Vehicle Titles\n-Virginia Vital Records\n-Address changes\n-Vehicle registrations\n-E-ZPass transponders\n-Compliance summaries\n-Transcripts\n-Hunting and Fishing Licences \nLocation: Jamestown Room at Riverview Event Center\nLunch hours: 12:30-1:30 PM.
URL:https://jbleforcesupport.com/event/dmv-connect/2026-02-05/
LOCATION:Langley AFB
CATEGORIES:November
ATTACH;FMTTYPE=image/jpeg:https://jbleforcesupport.com/wp-content/uploads/2026/01/0806-DMV-Connect_Web.jpg
END:VEVENT
BEGIN:VEVENT
DTSTART;TZID=UTC:20260206T110000
DTEND;TZID=UTC:20260206T130000
DTSTAMP:20260422T050448
CREATED:20260128T174848Z
LAST-MODIFIED:20260128T174917Z
UID:10007676-1770375600-1770382800@jbleforcesupport.com
SUMMARY:Touchdown Tailgate Meal
DESCRIPTION:Enjoy wings\, burgers\, hot dogs\, ice cream floats & more before the Big Game!\nFree food samples available. Represent your favorite team! \n 
URL:https://jbleforcesupport.com/event/touchdown-tailgate-meal/
LOCATION:Crossbow DFAC\, 49 Spruce St\, Langley AFB\, VA\, 23665\, United States
CATEGORIES:November
ATTACH;FMTTYPE=image/jpeg:https://jbleforcesupport.com/wp-content/uploads/2026/01/0206-Touchdown-Tailgate-Meal_web.jpg
END:VEVENT
BEGIN:VEVENT
DTSTART;TZID=UTC:20260207T190000
DTEND;TZID=UTC:20260207T220000
DTSTAMP:20260422T050448
CREATED:20260128T181402Z
LAST-MODIFIED:20260128T181402Z
UID:10007678-1770490800-1770501600@jbleforcesupport.com
SUMMARY:Cosmic Mardi Gras Bowling
DESCRIPTION:Cost: $30 per person | $50 per couple\nPurchase includes:\n-shoe rentals\n-3 hrs of bowling\n-bowl of fresh gumbo\n-a slice of king cake\nFree beads and a chance to win prizes!
URL:https://jbleforcesupport.com/event/cosmic-mardi-gras-bowling/
LOCATION:Langley Lanes Bowling Center\, 75 Nealy Ave\, Langley AFB\, 23665
CATEGORIES:Fun,Hot Events,Langley Lanes,November
ATTACH;FMTTYPE=image/jpeg:https://jbleforcesupport.com/wp-content/uploads/2026/01/0207-Cosmic-Mardi-Gras-Bowling_web.jpg
END:VEVENT
BEGIN:VEVENT
DTSTART;TZID=UTC:20260212T163000
DTEND;TZID=UTC:20260212T180000
DTSTAMP:20260422T050448
CREATED:20260114T184445Z
LAST-MODIFIED:20260114T184445Z
UID:10007638-1770913800-1770919200@jbleforcesupport.com
SUMMARY:Cupid's Crush Trivia
DESCRIPTION:Valentine’s Day Theme Trivia Night. Trivia starts at 4:30 PM. \nFree for all ages. Children must be supervised! Teams of up to 5 people\, prizes for the winning team. Sign up at the Rec!
URL:https://jbleforcesupport.com/event/cupids-crush-trivia/
LOCATION:Community Programs\, 128 Benedict Ave\, Langley AFB\, 23665
CATEGORIES:November,Riverview Event Center
ATTACH;FMTTYPE=image/jpeg:https://jbleforcesupport.com/wp-content/uploads/2026/01/0212-Cupids-Crush-Trivia_web.jpg
END:VEVENT
BEGIN:VEVENT
DTSTART;TZID=UTC:20260213T170000
DTEND;TZID=UTC:20260213T190000
DTSTAMP:20260422T050448
CREATED:20260105T185541Z
LAST-MODIFIED:20260105T185541Z
UID:10007609-1771002000-1771009200@jbleforcesupport.com
SUMMARY:Langley Magic Gathering
DESCRIPTION:Prepare your decks and gather your friends! Join us for epic nights of Magic: The Gathering \nGame Format: Chosen by player votes. Open to ages 15+
URL:https://jbleforcesupport.com/event/langley-magic-gathering/2026-02-13/
LOCATION:Community Programs\, 128 Benedict Ave\, Langley AFB\, 23665
CATEGORIES:November
ATTACH;FMTTYPE=image/jpeg:https://jbleforcesupport.com/wp-content/uploads/2026/01/0102-0327-Langley-Magic-Gathering_web.jpg
END:VEVENT
BEGIN:VEVENT
DTSTART;TZID=UTC:20260213T180000
DTEND;TZID=UTC:20260213T200000
DTSTAMP:20260422T050448
CREATED:20260128T182623Z
LAST-MODIFIED:20260128T182624Z
UID:10007679-1771005600-1771012800@jbleforcesupport.com
SUMMARY:Valentine PJ Party
DESCRIPTION:Food\, live music\, and dancing!\nAges: 9-18\, each member can bring a guest. Open to all eligible youth 9-18.\nFree event: become a YP member! \nTo register:https://parent.afcyp.com/
URL:https://jbleforcesupport.com/event/valentine-pj-party/
LOCATION:Langley Youth Center\, 2424 Big Bethel Rd\, Hampton
CATEGORIES:Fun,Hot Events,November
ATTACH;FMTTYPE=image/jpeg:https://jbleforcesupport.com/wp-content/uploads/2026/01/0213-CYP-Valentine-PJ-Party_web.jpg
END:VEVENT
BEGIN:VEVENT
DTSTART;TZID=UTC:20260218T173000
DTEND;TZID=UTC:20260218T193000
DTSTAMP:20260422T050448
CREATED:20260114T185953Z
LAST-MODIFIED:20260126T183423Z
UID:10007640-1771435800-1771443000@jbleforcesupport.com
SUMMARY:Free February Movie Nights
DESCRIPTION:February 4th\, A Big Bold Beautiful Journey (R) at  5:30 PM. \nFebruary 18th\, The Lorax (PG) at 5:30 PM \nFree popcorn for Club Members\, non-members $1 Popcorn (Cash Only)\, no outside food permitted. All outside drinks must have a lid. For more information\, call Community Programs. \n  \n 
URL:https://jbleforcesupport.com/event/free-february-movie-nights/2026-02-18/
LOCATION:Langley Base Theater\, 66 Nealy Ave\, Langley AFB\, 23665
CATEGORIES:November,Riverview Event Center
ATTACH;FMTTYPE=image/jpeg:https://jbleforcesupport.com/wp-content/uploads/2026/01/0204-0218-Free-February-Movies_web.jpg
END:VEVENT
BEGIN:VEVENT
DTSTART;TZID=UTC:20260220T073000
DTEND;TZID=UTC:20260220T083000
DTSTAMP:20260422T050448
CREATED:20260128T185201Z
LAST-MODIFIED:20260219T162425Z
UID:10007681-1771572600-1771576200@jbleforcesupport.com
SUMMARY:Love Yourself 5K
DESCRIPTION:Unfortunately\, the event is cancelled due to the weather!
URL:https://jbleforcesupport.com/event/love-yourself-5k/
LOCATION:Langley AFB
CATEGORIES:Hot Events,November
ATTACH;FMTTYPE=image/jpeg:https://jbleforcesupport.com/wp-content/uploads/2026/01/0219-CANCELLED-Love-Yourself-5K_web.jpg
END:VEVENT
BEGIN:VEVENT
DTSTART;TZID=UTC:20260221T080000
DTEND;TZID=UTC:20260221T170000
DTSTAMP:20260422T050448
CREATED:20260128T180612Z
LAST-MODIFIED:20260210T140643Z
UID:10007677-1771660800-1771693200@jbleforcesupport.com
SUMMARY:Blind Draw
DESCRIPTION:POSTPONDED to Saturday\, February 21st \nCost: $15 plus golf fees\nTo register: https://manager.gallusgolf.com/Register/77783/blind-draw   \n 
URL:https://jbleforcesupport.com/event/blind-draw/
LOCATION:Eaglewood Golf Course\, 630 Weyland Rd\, Langley AFB\, VA\, 23665\, United States
CATEGORIES:Eaglewood,November
ATTACH;FMTTYPE=image/jpeg:https://jbleforcesupport.com/wp-content/uploads/2026/01/0207-Blind-Draw_web.jpg
END:VEVENT
BEGIN:VEVENT
DTSTART;TZID=UTC:20260223T060000
DTEND;TZID=UTC:20260223T210000
DTSTAMP:20260422T050448
CREATED:20260128T191055Z
LAST-MODIFIED:20260128T191055Z
UID:10007683-1771826400-1771880400@jbleforcesupport.com
SUMMARY:Benchuary: Benchpress Competition
DESCRIPTION:Participate all day at Shellbank Fitness Center or ACC Fitness Center. \nMales will bench their body weight. Females will bench half their body weight. Males and females from each age group with the most reps will be awarded prizes. \nFrontdesk will weigh participants & count treps. \nTo register: m.signupgenius.com/#!/showSignUp/10C084DABAE2CA4F9C61-53731012-warrior  \n 
URL:https://jbleforcesupport.com/event/benchuary-benchpress-competition/2026-02-23/
LOCATION:Shellbank Fitness Center\, 36 Sweeney Blvd\, Langley AFB\, 23665
CATEGORIES:Fitness,Fun,Hot Events,November
ATTACH;FMTTYPE=image/jpeg:https://jbleforcesupport.com/wp-content/uploads/2026/01/0223-0227-Benchuary_web.jpg
END:VEVENT
BEGIN:VEVENT
DTSTART;TZID=UTC:20260224T060000
DTEND;TZID=UTC:20260224T210000
DTSTAMP:20260422T050448
CREATED:20260128T191055Z
LAST-MODIFIED:20260128T191055Z
UID:10007684-1771912800-1771966800@jbleforcesupport.com
SUMMARY:Benchuary: Benchpress Competition
DESCRIPTION:Participate all day at Shellbank Fitness Center or ACC Fitness Center. \nMales will bench their body weight. Females will bench half their body weight. Males and females from each age group with the most reps will be awarded prizes. \nFrontdesk will weigh participants & count treps. \nTo register: m.signupgenius.com/#!/showSignUp/10C084DABAE2CA4F9C61-53731012-warrior  \n 
URL:https://jbleforcesupport.com/event/benchuary-benchpress-competition/2026-02-24/
LOCATION:Shellbank Fitness Center\, 36 Sweeney Blvd\, Langley AFB\, 23665
CATEGORIES:Fitness,Fun,Hot Events,November
ATTACH;FMTTYPE=image/jpeg:https://jbleforcesupport.com/wp-content/uploads/2026/01/0223-0227-Benchuary_web.jpg
END:VEVENT
BEGIN:VEVENT
DTSTART;TZID=UTC:20260225T060000
DTEND;TZID=UTC:20260225T210000
DTSTAMP:20260422T050448
CREATED:20260128T191055Z
LAST-MODIFIED:20260128T191055Z
UID:10007685-1771999200-1772053200@jbleforcesupport.com
SUMMARY:Benchuary: Benchpress Competition
DESCRIPTION:Participate all day at Shellbank Fitness Center or ACC Fitness Center. \nMales will bench their body weight. Females will bench half their body weight. Males and females from each age group with the most reps will be awarded prizes. \nFrontdesk will weigh participants & count treps. \nTo register: m.signupgenius.com/#!/showSignUp/10C084DABAE2CA4F9C61-53731012-warrior  \n 
URL:https://jbleforcesupport.com/event/benchuary-benchpress-competition/2026-02-25/
LOCATION:Shellbank Fitness Center\, 36 Sweeney Blvd\, Langley AFB\, 23665
CATEGORIES:Fitness,Fun,Hot Events,November
ATTACH;FMTTYPE=image/jpeg:https://jbleforcesupport.com/wp-content/uploads/2026/01/0223-0227-Benchuary_web.jpg
END:VEVENT
BEGIN:VEVENT
DTSTART;TZID=UTC:20260226T060000
DTEND;TZID=UTC:20260226T210000
DTSTAMP:20260422T050448
CREATED:20260128T191055Z
LAST-MODIFIED:20260128T191055Z
UID:10007686-1772085600-1772139600@jbleforcesupport.com
SUMMARY:Benchuary: Benchpress Competition
DESCRIPTION:Participate all day at Shellbank Fitness Center or ACC Fitness Center. \nMales will bench their body weight. Females will bench half their body weight. Males and females from each age group with the most reps will be awarded prizes. \nFrontdesk will weigh participants & count treps. \nTo register: m.signupgenius.com/#!/showSignUp/10C084DABAE2CA4F9C61-53731012-warrior  \n 
URL:https://jbleforcesupport.com/event/benchuary-benchpress-competition/2026-02-26/
LOCATION:Shellbank Fitness Center\, 36 Sweeney Blvd\, Langley AFB\, 23665
CATEGORIES:Fitness,Fun,Hot Events,November
ATTACH;FMTTYPE=image/jpeg:https://jbleforcesupport.com/wp-content/uploads/2026/01/0223-0227-Benchuary_web.jpg
END:VEVENT
BEGIN:VEVENT
DTSTART;TZID=UTC:20260227T060000
DTEND;TZID=UTC:20260227T210000
DTSTAMP:20260422T050448
CREATED:20260128T191055Z
LAST-MODIFIED:20260128T191055Z
UID:10007687-1772172000-1772226000@jbleforcesupport.com
SUMMARY:Benchuary: Benchpress Competition
DESCRIPTION:Participate all day at Shellbank Fitness Center or ACC Fitness Center. \nMales will bench their body weight. Females will bench half their body weight. Males and females from each age group with the most reps will be awarded prizes. \nFrontdesk will weigh participants & count treps. \nTo register: m.signupgenius.com/#!/showSignUp/10C084DABAE2CA4F9C61-53731012-warrior  \n 
URL:https://jbleforcesupport.com/event/benchuary-benchpress-competition/2026-02-27/
LOCATION:Shellbank Fitness Center\, 36 Sweeney Blvd\, Langley AFB\, 23665
CATEGORIES:Fitness,Fun,Hot Events,November
ATTACH;FMTTYPE=image/jpeg:https://jbleforcesupport.com/wp-content/uploads/2026/01/0223-0227-Benchuary_web.jpg
END:VEVENT
BEGIN:VEVENT
DTSTART;TZID=UTC:20260227T160000
DTEND;TZID=UTC:20260227T180000
DTSTAMP:20260422T050448
CREATED:20260114T184924Z
LAST-MODIFIED:20260114T184931Z
UID:10007639-1772208000-1772215200@jbleforcesupport.com
SUMMARY:Rock Painting
DESCRIPTION:Register by calling or visiting the Riverview Event Center by Wednesday\, February 25th. \nAll supplies included. One rock per person; children must be supervised by an adult.
URL:https://jbleforcesupport.com/event/rock-painting/
LOCATION:Community Programs\, 128 Benedict Ave\, Langley AFB\, 23665
CATEGORIES:November,Riverview Event Center
ATTACH;FMTTYPE=image/jpeg:https://jbleforcesupport.com/wp-content/uploads/2026/01/0227-Rock-Painting_web.jpg
END:VEVENT
BEGIN:VEVENT
DTSTART;TZID=UTC:20260227T170000
DTEND;TZID=UTC:20260227T190000
DTSTAMP:20260422T050448
CREATED:20260105T185541Z
LAST-MODIFIED:20260105T185541Z
UID:10007610-1772211600-1772218800@jbleforcesupport.com
SUMMARY:Langley Magic Gathering
DESCRIPTION:Prepare your decks and gather your friends! Join us for epic nights of Magic: The Gathering \nGame Format: Chosen by player votes. Open to ages 15+
URL:https://jbleforcesupport.com/event/langley-magic-gathering/2026-02-27/
LOCATION:Community Programs\, 128 Benedict Ave\, Langley AFB\, 23665
CATEGORIES:November
ATTACH;FMTTYPE=image/jpeg:https://jbleforcesupport.com/wp-content/uploads/2026/01/0102-0327-Langley-Magic-Gathering_web.jpg
END:VEVENT
BEGIN:VEVENT
DTSTART;TZID=UTC:20260227T180000
DTEND;TZID=UTC:20260227T200000
DTSTAMP:20260422T050448
CREATED:20260128T192004Z
LAST-MODIFIED:20260128T192004Z
UID:10007688-1772215200-1772222400@jbleforcesupport.com
SUMMARY:Community Game Night
DESCRIPTION:Free and open to all! \nGames will be provided\, and food & beverage will be available for purchase. \nPre-register here: https://manager.gallusgolf.com/Register/77784/community-game-night
URL:https://jbleforcesupport.com/event/community-game-night/2026-02-27/
LOCATION:Eaglewood Golf Course\, 630 Weyland Rd\, Langley AFB\, VA\, 23665\, United States
CATEGORIES:Eaglewood,Fun,Hot Events,November
ATTACH;FMTTYPE=image/jpeg:https://jbleforcesupport.com/wp-content/uploads/2026/01/0227-Community-Game-Night_web.jpg
END:VEVENT
END:VCALENDAR