BEGIN:VCALENDAR
VERSION:2.0
PRODID:-//Langley Air Force Base - ECPv6.15.20//NONSGML v1.0//EN
CALSCALE:GREGORIAN
METHOD:PUBLISH
X-ORIGINAL-URL:https://jbleforcesupport.com
X-WR-CALDESC:Events for Langley Air Force Base
REFRESH-INTERVAL;VALUE=DURATION:PT1H
X-Robots-Tag:noindex
X-PUBLISHED-TTL:PT1H
BEGIN:VTIMEZONE
TZID:UTC
BEGIN:STANDARD
TZOFFSETFROM:+0000
TZOFFSETTO:+0000
TZNAME:UTC
DTSTART:20250101T000000
END:STANDARD
END:VTIMEZONE
BEGIN:VEVENT
DTSTART;TZID=UTC:20260212T163000
DTEND;TZID=UTC:20260212T180000
DTSTAMP:20260422T070511
CREATED:20260114T184445Z
LAST-MODIFIED:20260114T184445Z
UID:10007638-1770913800-1770919200@jbleforcesupport.com
SUMMARY:Cupid's Crush Trivia
DESCRIPTION:Valentine’s Day Theme Trivia Night. Trivia starts at 4:30 PM. \nFree for all ages. Children must be supervised! Teams of up to 5 people\, prizes for the winning team. Sign up at the Rec!
URL:https://jbleforcesupport.com/event/cupids-crush-trivia/
LOCATION:Community Programs\, 128 Benedict Ave\, Langley AFB\, 23665
CATEGORIES:November,Riverview Event Center
ATTACH;FMTTYPE=image/jpeg:https://jbleforcesupport.com/wp-content/uploads/2026/01/0212-Cupids-Crush-Trivia_web.jpg
END:VEVENT
END:VCALENDAR