BEGIN:VCALENDAR
VERSION:2.0
PRODID:-//Langley Air Force Base - ECPv6.15.20//NONSGML v1.0//EN
CALSCALE:GREGORIAN
METHOD:PUBLISH
X-ORIGINAL-URL:https://jbleforcesupport.com
X-WR-CALDESC:Events for Langley Air Force Base
REFRESH-INTERVAL;VALUE=DURATION:PT1H
X-Robots-Tag:noindex
X-PUBLISHED-TTL:PT1H
BEGIN:VTIMEZONE
TZID:UTC
BEGIN:STANDARD
TZOFFSETFROM:+0000
TZOFFSETTO:+0000
TZNAME:UTC
DTSTART:20250101T000000
END:STANDARD
END:VTIMEZONE
BEGIN:VEVENT
DTSTART;TZID=UTC:20260220T073000
DTEND;TZID=UTC:20260220T083000
DTSTAMP:20260424T160736
CREATED:20260128T185201Z
LAST-MODIFIED:20260219T162425Z
UID:10007681-1771572600-1771576200@jbleforcesupport.com
SUMMARY:Love Yourself 5K
DESCRIPTION:Unfortunately\, the event is cancelled due to the weather!
URL:https://jbleforcesupport.com/event/love-yourself-5k/
LOCATION:Langley AFB
CATEGORIES:Hot Events,November
ATTACH;FMTTYPE=image/jpeg:https://jbleforcesupport.com/wp-content/uploads/2026/01/0219-CANCELLED-Love-Yourself-5K_web.jpg
END:VEVENT
END:VCALENDAR