BEGIN:VCALENDAR
VERSION:2.0
PRODID:-//Langley Air Force Base - ECPv6.15.20//NONSGML v1.0//EN
CALSCALE:GREGORIAN
METHOD:PUBLISH
X-ORIGINAL-URL:https://jbleforcesupport.com
X-WR-CALDESC:Events for Langley Air Force Base
REFRESH-INTERVAL;VALUE=DURATION:PT1H
X-Robots-Tag:noindex
X-PUBLISHED-TTL:PT1H
BEGIN:VTIMEZONE
TZID:UTC
BEGIN:STANDARD
TZOFFSETFROM:+0000
TZOFFSETTO:+0000
TZNAME:UTC
DTSTART:20250101T000000
END:STANDARD
END:VTIMEZONE
BEGIN:VEVENT
DTSTART;TZID=UTC:20260304T173000
DTEND;TZID=UTC:20260304T193000
DTSTAMP:20260422T021618
CREATED:20260219T190345Z
LAST-MODIFIED:20260302T144949Z
UID:10007741-1772645400-1772652600@jbleforcesupport.com
SUMMARY:March Movie Nights
DESCRIPTION:Wednesday\, March 4 Gabby’s Dollhouse (G) – moved to Riverview Event Center  \nWednesday\, March 11 Demon Slayer: Kimetsu No Yaiba Infinity Castle (R) – Rec Ballroom \nWednesday\, March 18 Soul On Fire (PG) – Williamsburg Room \nWednesday\, March 25 Tron: Ares (PG-13) – Williamsburg Room \nAll shows start at 5:30 pm. No outside food permitted; all outside drinks must have a lid. One FREE popcorn for club members.
URL:https://jbleforcesupport.com/event/march-movie-nights/2026-03-04/
LOCATION:Langley AFB
CATEGORIES:Fun,November,Riverview Event Center
ATTACH;FMTTYPE=image/jpeg:https://jbleforcesupport.com/wp-content/uploads/2026/02/0304-0325-March-Movie-Nights_web.jpg
END:VEVENT
END:VCALENDAR