BEGIN:VCALENDAR
VERSION:2.0
PRODID:-//Langley Air Force Base - ECPv6.15.20//NONSGML v1.0//EN
CALSCALE:GREGORIAN
METHOD:PUBLISH
X-ORIGINAL-URL:https://jbleforcesupport.com
X-WR-CALDESC:Events for Langley Air Force Base
REFRESH-INTERVAL;VALUE=DURATION:PT1H
X-Robots-Tag:noindex
X-PUBLISHED-TTL:PT1H
BEGIN:VTIMEZONE
TZID:UTC
BEGIN:STANDARD
TZOFFSETFROM:+0000
TZOFFSETTO:+0000
TZNAME:UTC
DTSTART:20250101T000000
END:STANDARD
END:VTIMEZONE
BEGIN:VEVENT
DTSTART;TZID=UTC:20260312T163000
DTEND;TZID=UTC:20260312T183000
DTSTAMP:20260422T034527
CREATED:20260220T152518Z
LAST-MODIFIED:20260220T152518Z
UID:10007752-1773333000-1773340200@jbleforcesupport.com
SUMMARY:Cornhole Tournament
DESCRIPTION:Teams of 2! Call or visit Community Programs to sign up today!
URL:https://jbleforcesupport.com/event/cornhole-tournament/
LOCATION:Riverview Event Center\, 128 Benedict Ave
CATEGORIES:November
ATTACH;FMTTYPE=image/jpeg:https://jbleforcesupport.com/wp-content/uploads/2026/02/0312-Cornhole-Tournament_web.jpg
END:VEVENT
END:VCALENDAR