BEGIN:VCALENDAR
VERSION:2.0
PRODID:-//Langley Air Force Base - ECPv6.15.20//NONSGML v1.0//EN
CALSCALE:GREGORIAN
METHOD:PUBLISH
X-ORIGINAL-URL:https://jbleforcesupport.com
X-WR-CALDESC:Events for Langley Air Force Base
REFRESH-INTERVAL;VALUE=DURATION:PT1H
X-Robots-Tag:noindex
X-PUBLISHED-TTL:PT1H
BEGIN:VTIMEZONE
TZID:UTC
BEGIN:STANDARD
TZOFFSETFROM:+0000
TZOFFSETTO:+0000
TZNAME:UTC
DTSTART:20250101T000000
END:STANDARD
END:VTIMEZONE
BEGIN:VEVENT
DTSTART;TZID=UTC:20260323T080000
DTEND;TZID=UTC:20260619T170000
DTSTAMP:20260422T015356
CREATED:20260220T190849Z
LAST-MODIFIED:20260220T190849Z
UID:10007756-1774252800-1781888400@jbleforcesupport.com
SUMMARY:Outdoor Recreation Spring Rentals
DESCRIPTION:Canoes\, kayaks & paddleboards. \nCost: $30 daily fee\, $45 weekend fee
URL:https://jbleforcesupport.com/event/outdoor-recreation-spring-rentals/
LOCATION:Langley Outdoor Recreation\, 77 Holly Street\, Langley AFB\, 23665
CATEGORIES:Fun,November,Outdoor Recreation
ATTACH;FMTTYPE=image/jpeg:https://jbleforcesupport.com/wp-content/uploads/2026/02/0323-0619-Spring-Rentals_web.jpg
END:VEVENT
BEGIN:VEVENT
DTSTART;TZID=UTC:20260408T080000
DTEND;TZID=UTC:20260408T170000
DTSTAMP:20260422T015356
CREATED:20260325T171723Z
LAST-MODIFIED:20260325T171736Z
UID:10007861-1775635200-1775667600@jbleforcesupport.com
SUMMARY:April Fools Day
DESCRIPTION:From April 1St to30th\, place your joke in the joke jar at the entryway of the Riverview Event Center\, for a chance to win a prize! \nTwo drawings every week starting April 27th\, and the winner is announced on May 1st!
URL:https://jbleforcesupport.com/event/april-fools-day/2026-04-08/
LOCATION:Riverview Event Center\, 128 Benedict Ave
CATEGORIES:November
ATTACH;FMTTYPE=image/jpeg:https://jbleforcesupport.com/wp-content/uploads/2026/03/0401-0430-April-Fools-Day-Joke-Jar_web.jpg
END:VEVENT
BEGIN:VEVENT
DTSTART;TZID=UTC:20260408T103000
DTEND;TZID=UTC:20260408T113000
DTSTAMP:20260422T015356
CREATED:20260326T181157Z
LAST-MODIFIED:20260326T181157Z
UID:10008268-1775644200-1775647800@jbleforcesupport.com
SUMMARY:Story Time
DESCRIPTION:Join us Wednesdays at 10:30 AM for stories\, songs\, and activities with new friends. April themes are Dinosaurs\, Baby Chicks\, Dragons\, Elephants\, and Llamas. Story Time will take a break in May and return during our Summer Reading Program (June-July).
URL:https://jbleforcesupport.com/event/story-time-4/2026-04-08/
LOCATION:Bateman Library\, 42 Ash Ave\, Langley AFB\, 23665
CATEGORIES:November
ATTACH;FMTTYPE=image/png:https://jbleforcesupport.com/wp-content/uploads/2026/03/Website_-Story-Time.png
END:VEVENT
END:VCALENDAR