BEGIN:VCALENDAR
VERSION:2.0
PRODID:-//Langley Air Force Base - ECPv6.15.20//NONSGML v1.0//EN
CALSCALE:GREGORIAN
METHOD:PUBLISH
X-WR-CALNAME:Langley Air Force Base
X-ORIGINAL-URL:https://jbleforcesupport.com
X-WR-CALDESC:Events for Langley Air Force Base
REFRESH-INTERVAL;VALUE=DURATION:PT1H
X-Robots-Tag:noindex
X-PUBLISHED-TTL:PT1H
BEGIN:VTIMEZONE
TZID:UTC
BEGIN:STANDARD
TZOFFSETFROM:+0000
TZOFFSETTO:+0000
TZNAME:UTC
DTSTART:20250101T000000
END:STANDARD
END:VTIMEZONE
BEGIN:VEVENT
DTSTART;TZID=UTC:20260323T080000
DTEND;TZID=UTC:20260619T170000
DTSTAMP:20260421T221612
CREATED:20260220T190849Z
LAST-MODIFIED:20260220T190849Z
UID:10007756-1774252800-1781888400@jbleforcesupport.com
SUMMARY:Outdoor Recreation Spring Rentals
DESCRIPTION:Canoes\, kayaks & paddleboards. \nCost: $30 daily fee\, $45 weekend fee
URL:https://jbleforcesupport.com/event/outdoor-recreation-spring-rentals/
LOCATION:Langley Outdoor Recreation\, 77 Holly Street\, Langley AFB\, 23665
CATEGORIES:Fun,November,Outdoor Recreation
ATTACH;FMTTYPE=image/jpeg:https://jbleforcesupport.com/wp-content/uploads/2026/02/0323-0619-Spring-Rentals_web.jpg
END:VEVENT
BEGIN:VEVENT
DTSTART;TZID=UTC:20260421T080000
DTEND;TZID=UTC:20260421T170000
DTSTAMP:20260421T221612
CREATED:20260325T171723Z
LAST-MODIFIED:20260325T171736Z
UID:10007874-1776758400-1776790800@jbleforcesupport.com
SUMMARY:April Fools Day
DESCRIPTION:From April 1St to30th\, place your joke in the joke jar at the entryway of the Riverview Event Center\, for a chance to win a prize! \nTwo drawings every week starting April 27th\, and the winner is announced on May 1st!
URL:https://jbleforcesupport.com/event/april-fools-day/2026-04-21/
LOCATION:Riverview Event Center\, 128 Benedict Ave
CATEGORIES:November
ATTACH;FMTTYPE=image/jpeg:https://jbleforcesupport.com/wp-content/uploads/2026/03/0401-0430-April-Fools-Day-Joke-Jar_web.jpg
END:VEVENT
BEGIN:VEVENT
DTSTART;TZID=UTC:20260421T180000
DTEND;TZID=UTC:20260421T190000
DTSTAMP:20260421T221612
CREATED:20260326T175923Z
LAST-MODIFIED:20260326T175924Z
UID:10008265-1776794400-1776798000@jbleforcesupport.com
SUMMARY:Death and Doughnuts Book Club
DESCRIPTION:Are you a lover of spine-tingling suspense and mind-bending mysteries? Want to bond over psychological thrillers and mysterious murders while enjoying delicious donuts? Join Bateman Library’s 18= Book Club: Death and Doughnuts every third Tuesday! April Selection: Anatomy of an Alibi by Ashley Elston.
URL:https://jbleforcesupport.com/event/death-and-doughnuts-book-club/
LOCATION:Bateman Library\, 42 Ash Ave\, Langley AFB\, 23665
CATEGORIES:Fun,Library,November
ATTACH;FMTTYPE=image/png:https://jbleforcesupport.com/wp-content/uploads/2026/03/Website_-Death-and-Doughnuts.png
END:VEVENT
BEGIN:VEVENT
DTSTART;TZID=UTC:20260422T080000
DTEND;TZID=UTC:20260422T170000
DTSTAMP:20260421T221612
CREATED:20260325T171723Z
LAST-MODIFIED:20260325T171736Z
UID:10007875-1776844800-1776877200@jbleforcesupport.com
SUMMARY:April Fools Day
DESCRIPTION:From April 1St to30th\, place your joke in the joke jar at the entryway of the Riverview Event Center\, for a chance to win a prize! \nTwo drawings every week starting April 27th\, and the winner is announced on May 1st!
URL:https://jbleforcesupport.com/event/april-fools-day/2026-04-22/
LOCATION:Riverview Event Center\, 128 Benedict Ave
CATEGORIES:November
ATTACH;FMTTYPE=image/jpeg:https://jbleforcesupport.com/wp-content/uploads/2026/03/0401-0430-April-Fools-Day-Joke-Jar_web.jpg
END:VEVENT
BEGIN:VEVENT
DTSTART;TZID=UTC:20260422T100000
DTEND;TZID=UTC:20260422T113000
DTSTAMP:20260421T221612
CREATED:20260326T181157Z
LAST-MODIFIED:20260326T181157Z
UID:10008270-1776852000-1776857400@jbleforcesupport.com
SUMMARY:Story Time
DESCRIPTION:Join us Wednesdays at 10:30 AM for stories\, songs\, and activities with new friends. April themes are Dinosaurs\, Baby Chicks\, Dragons\, Elephants\, and Llamas. Story Time will take a break in May and return during our Summer Reading Program (June-July).
URL:https://jbleforcesupport.com/event/story-time-4/2026-04-22/
LOCATION:Bateman Library\, 42 Ash Ave\, Langley AFB\, 23665
CATEGORIES:November
ATTACH;FMTTYPE=image/png:https://jbleforcesupport.com/wp-content/uploads/2026/03/Website_-Story-Time.png
END:VEVENT
BEGIN:VEVENT
DTSTART;TZID=UTC:20260423T080000
DTEND;TZID=UTC:20260423T170000
DTSTAMP:20260421T221612
CREATED:20260325T171723Z
LAST-MODIFIED:20260325T171736Z
UID:10007876-1776931200-1776963600@jbleforcesupport.com
SUMMARY:April Fools Day
DESCRIPTION:From April 1St to30th\, place your joke in the joke jar at the entryway of the Riverview Event Center\, for a chance to win a prize! \nTwo drawings every week starting April 27th\, and the winner is announced on May 1st!
URL:https://jbleforcesupport.com/event/april-fools-day/2026-04-23/
LOCATION:Riverview Event Center\, 128 Benedict Ave
CATEGORIES:November
ATTACH;FMTTYPE=image/jpeg:https://jbleforcesupport.com/wp-content/uploads/2026/03/0401-0430-April-Fools-Day-Joke-Jar_web.jpg
END:VEVENT
BEGIN:VEVENT
DTSTART;TZID=UTC:20260424T080000
DTEND;TZID=UTC:20260424T170000
DTSTAMP:20260421T221612
CREATED:20260325T171723Z
LAST-MODIFIED:20260325T171736Z
UID:10007877-1777017600-1777050000@jbleforcesupport.com
SUMMARY:April Fools Day
DESCRIPTION:From April 1St to30th\, place your joke in the joke jar at the entryway of the Riverview Event Center\, for a chance to win a prize! \nTwo drawings every week starting April 27th\, and the winner is announced on May 1st!
URL:https://jbleforcesupport.com/event/april-fools-day/2026-04-24/
LOCATION:Riverview Event Center\, 128 Benedict Ave
CATEGORIES:November
ATTACH;FMTTYPE=image/jpeg:https://jbleforcesupport.com/wp-content/uploads/2026/03/0401-0430-April-Fools-Day-Joke-Jar_web.jpg
END:VEVENT
BEGIN:VEVENT
DTSTART;TZID=UTC:20260424T180000
DTEND;TZID=UTC:20260424T200000
DTSTAMP:20260421T221612
CREATED:20260128T192004Z
LAST-MODIFIED:20260128T192004Z
UID:10007689-1777053600-1777060800@jbleforcesupport.com
SUMMARY:Community Game Night
DESCRIPTION:Free and open to all! \nGames will be provided\, and food & beverage will be available for purchase. \nPre-register here: https://manager.gallusgolf.com/Register/77784/community-game-night
URL:https://jbleforcesupport.com/event/community-game-night/2026-04-24/
LOCATION:Eaglewood Golf Course\, 630 Weyland Rd\, Langley AFB\, VA\, 23665\, United States
CATEGORIES:Eaglewood,Fun,Hot Events,November
ATTACH;FMTTYPE=image/jpeg:https://jbleforcesupport.com/wp-content/uploads/2026/01/0227-Community-Game-Night_web.jpg
END:VEVENT
BEGIN:VEVENT
DTSTART;TZID=UTC:20260425T080000
DTEND;TZID=UTC:20260425T170000
DTSTAMP:20260421T221612
CREATED:20260325T171723Z
LAST-MODIFIED:20260325T171736Z
UID:10007878-1777104000-1777136400@jbleforcesupport.com
SUMMARY:April Fools Day
DESCRIPTION:From April 1St to30th\, place your joke in the joke jar at the entryway of the Riverview Event Center\, for a chance to win a prize! \nTwo drawings every week starting April 27th\, and the winner is announced on May 1st!
URL:https://jbleforcesupport.com/event/april-fools-day/2026-04-25/
LOCATION:Riverview Event Center\, 128 Benedict Ave
CATEGORIES:November
ATTACH;FMTTYPE=image/jpeg:https://jbleforcesupport.com/wp-content/uploads/2026/03/0401-0430-April-Fools-Day-Joke-Jar_web.jpg
END:VEVENT
BEGIN:VEVENT
DTSTART;TZID=UTC:20260426T080000
DTEND;TZID=UTC:20260426T170000
DTSTAMP:20260421T221612
CREATED:20260325T171723Z
LAST-MODIFIED:20260325T171736Z
UID:10007879-1777190400-1777222800@jbleforcesupport.com
SUMMARY:April Fools Day
DESCRIPTION:From April 1St to30th\, place your joke in the joke jar at the entryway of the Riverview Event Center\, for a chance to win a prize! \nTwo drawings every week starting April 27th\, and the winner is announced on May 1st!
URL:https://jbleforcesupport.com/event/april-fools-day/2026-04-26/
LOCATION:Riverview Event Center\, 128 Benedict Ave
CATEGORIES:November
ATTACH;FMTTYPE=image/jpeg:https://jbleforcesupport.com/wp-content/uploads/2026/03/0401-0430-April-Fools-Day-Joke-Jar_web.jpg
END:VEVENT
BEGIN:VEVENT
DTSTART;TZID=UTC:20260427T080000
DTEND;TZID=UTC:20260427T170000
DTSTAMP:20260421T221612
CREATED:20260325T171723Z
LAST-MODIFIED:20260325T171736Z
UID:10007880-1777276800-1777309200@jbleforcesupport.com
SUMMARY:April Fools Day
DESCRIPTION:From April 1St to30th\, place your joke in the joke jar at the entryway of the Riverview Event Center\, for a chance to win a prize! \nTwo drawings every week starting April 27th\, and the winner is announced on May 1st!
URL:https://jbleforcesupport.com/event/april-fools-day/2026-04-27/
LOCATION:Riverview Event Center\, 128 Benedict Ave
CATEGORIES:November
ATTACH;FMTTYPE=image/jpeg:https://jbleforcesupport.com/wp-content/uploads/2026/03/0401-0430-April-Fools-Day-Joke-Jar_web.jpg
END:VEVENT
BEGIN:VEVENT
DTSTART;TZID=UTC:20260427T130000
DTEND;TZID=UTC:20260427T150000
DTSTAMP:20260421T221612
CREATED:20260326T174350Z
LAST-MODIFIED:20260326T174350Z
UID:10008262-1777294800-1777302000@jbleforcesupport.com
SUMMARY:Art Journaling
DESCRIPTION:Step away from noise and onto the page! Whether you’re an adult looking for a creative outlet or a family with kids (ages 8+) ready to explore together\, this workshop is for you. Through a curated mix of creative prompts\, we’ll help you translate thoughts and feelings into color and texture. Zero experience is needed\, and all supplies are included. \nAges: 18+ and families with children 8+
URL:https://jbleforcesupport.com/event/art-journaling/2026-04-27/
LOCATION:Bateman Library\, 42 Ash Ave\, Langley AFB\, 23665
CATEGORIES:November
ATTACH;FMTTYPE=image/png:https://jbleforcesupport.com/wp-content/uploads/2026/03/Website_-Art-Journaling.png
END:VEVENT
BEGIN:VEVENT
DTSTART;TZID=UTC:20260428T080000
DTEND;TZID=UTC:20260428T170000
DTSTAMP:20260421T221612
CREATED:20260325T171723Z
LAST-MODIFIED:20260325T171736Z
UID:10007881-1777363200-1777395600@jbleforcesupport.com
SUMMARY:April Fools Day
DESCRIPTION:From April 1St to30th\, place your joke in the joke jar at the entryway of the Riverview Event Center\, for a chance to win a prize! \nTwo drawings every week starting April 27th\, and the winner is announced on May 1st!
URL:https://jbleforcesupport.com/event/april-fools-day/2026-04-28/
LOCATION:Riverview Event Center\, 128 Benedict Ave
CATEGORIES:November
ATTACH;FMTTYPE=image/jpeg:https://jbleforcesupport.com/wp-content/uploads/2026/03/0401-0430-April-Fools-Day-Joke-Jar_web.jpg
END:VEVENT
BEGIN:VEVENT
DTSTART;TZID=UTC:20260429T080000
DTEND;TZID=UTC:20260429T170000
DTSTAMP:20260421T221612
CREATED:20260325T171723Z
LAST-MODIFIED:20260325T171736Z
UID:10007882-1777449600-1777482000@jbleforcesupport.com
SUMMARY:April Fools Day
DESCRIPTION:From April 1St to30th\, place your joke in the joke jar at the entryway of the Riverview Event Center\, for a chance to win a prize! \nTwo drawings every week starting April 27th\, and the winner is announced on May 1st!
URL:https://jbleforcesupport.com/event/april-fools-day/2026-04-29/
LOCATION:Riverview Event Center\, 128 Benedict Ave
CATEGORIES:November
ATTACH;FMTTYPE=image/jpeg:https://jbleforcesupport.com/wp-content/uploads/2026/03/0401-0430-April-Fools-Day-Joke-Jar_web.jpg
END:VEVENT
BEGIN:VEVENT
DTSTART;TZID=UTC:20260429T100000
DTEND;TZID=UTC:20260429T113000
DTSTAMP:20260421T221612
CREATED:20260326T181157Z
LAST-MODIFIED:20260326T181157Z
UID:10008271-1777456800-1777462200@jbleforcesupport.com
SUMMARY:Story Time
DESCRIPTION:Join us Wednesdays at 10:30 AM for stories\, songs\, and activities with new friends. April themes are Dinosaurs\, Baby Chicks\, Dragons\, Elephants\, and Llamas. Story Time will take a break in May and return during our Summer Reading Program (June-July).
URL:https://jbleforcesupport.com/event/story-time-4/2026-04-29/
LOCATION:Bateman Library\, 42 Ash Ave\, Langley AFB\, 23665
CATEGORIES:November
ATTACH;FMTTYPE=image/png:https://jbleforcesupport.com/wp-content/uploads/2026/03/Website_-Story-Time.png
END:VEVENT
BEGIN:VEVENT
DTSTART;TZID=UTC:20260430T080000
DTEND;TZID=UTC:20260430T170000
DTSTAMP:20260421T221612
CREATED:20260325T171723Z
LAST-MODIFIED:20260325T171736Z
UID:10007883-1777536000-1777568400@jbleforcesupport.com
SUMMARY:April Fools Day
DESCRIPTION:From April 1St to30th\, place your joke in the joke jar at the entryway of the Riverview Event Center\, for a chance to win a prize! \nTwo drawings every week starting April 27th\, and the winner is announced on May 1st!
URL:https://jbleforcesupport.com/event/april-fools-day/2026-04-30/
LOCATION:Riverview Event Center\, 128 Benedict Ave
CATEGORIES:November
ATTACH;FMTTYPE=image/jpeg:https://jbleforcesupport.com/wp-content/uploads/2026/03/0401-0430-April-Fools-Day-Joke-Jar_web.jpg
END:VEVENT
END:VCALENDAR