BEGIN:VCALENDAR
VERSION:2.0
PRODID:-//Langley Air Force Base - ECPv6.15.20//NONSGML v1.0//EN
CALSCALE:GREGORIAN
METHOD:PUBLISH
X-WR-CALNAME:Langley Air Force Base
X-ORIGINAL-URL:https://jbleforcesupport.com
X-WR-CALDESC:Events for Langley Air Force Base
REFRESH-INTERVAL;VALUE=DURATION:PT1H
X-Robots-Tag:noindex
X-PUBLISHED-TTL:PT1H
BEGIN:VTIMEZONE
TZID:UTC
BEGIN:STANDARD
TZOFFSETFROM:+0000
TZOFFSETTO:+0000
TZNAME:UTC
DTSTART:20250101T000000
END:STANDARD
END:VTIMEZONE
BEGIN:VEVENT
DTSTART;TZID=UTC:20260825T080000
DTEND;TZID=UTC:20260825T170000
DTSTAMP:20260423T063453
CREATED:20260325T171723Z
LAST-MODIFIED:20260325T171736Z
UID:10008000-1787644800-1787677200@jbleforcesupport.com
SUMMARY:April Fools Day
DESCRIPTION:From April 1St to30th\, place your joke in the joke jar at the entryway of the Riverview Event Center\, for a chance to win a prize! \nTwo drawings every week starting April 27th\, and the winner is announced on May 1st!
URL:https://jbleforcesupport.com/event/april-fools-day/2026-08-25/
LOCATION:Riverview Event Center\, 128 Benedict Ave
CATEGORIES:November
ATTACH;FMTTYPE=image/jpeg:https://jbleforcesupport.com/wp-content/uploads/2026/03/0401-0430-April-Fools-Day-Joke-Jar_web.jpg
END:VEVENT
BEGIN:VEVENT
DTSTART;TZID=UTC:20260826T080000
DTEND;TZID=UTC:20260826T170000
DTSTAMP:20260423T063453
CREATED:20260325T171723Z
LAST-MODIFIED:20260325T171736Z
UID:10008001-1787731200-1787763600@jbleforcesupport.com
SUMMARY:April Fools Day
DESCRIPTION:From April 1St to30th\, place your joke in the joke jar at the entryway of the Riverview Event Center\, for a chance to win a prize! \nTwo drawings every week starting April 27th\, and the winner is announced on May 1st!
URL:https://jbleforcesupport.com/event/april-fools-day/2026-08-26/
LOCATION:Riverview Event Center\, 128 Benedict Ave
CATEGORIES:November
ATTACH;FMTTYPE=image/jpeg:https://jbleforcesupport.com/wp-content/uploads/2026/03/0401-0430-April-Fools-Day-Joke-Jar_web.jpg
END:VEVENT
BEGIN:VEVENT
DTSTART;TZID=UTC:20260827T080000
DTEND;TZID=UTC:20260827T170000
DTSTAMP:20260423T063453
CREATED:20260325T171723Z
LAST-MODIFIED:20260325T171736Z
UID:10008002-1787817600-1787850000@jbleforcesupport.com
SUMMARY:April Fools Day
DESCRIPTION:From April 1St to30th\, place your joke in the joke jar at the entryway of the Riverview Event Center\, for a chance to win a prize! \nTwo drawings every week starting April 27th\, and the winner is announced on May 1st!
URL:https://jbleforcesupport.com/event/april-fools-day/2026-08-27/
LOCATION:Riverview Event Center\, 128 Benedict Ave
CATEGORIES:November
ATTACH;FMTTYPE=image/jpeg:https://jbleforcesupport.com/wp-content/uploads/2026/03/0401-0430-April-Fools-Day-Joke-Jar_web.jpg
END:VEVENT
BEGIN:VEVENT
DTSTART;TZID=UTC:20260828T080000
DTEND;TZID=UTC:20260828T170000
DTSTAMP:20260423T063453
CREATED:20260325T171723Z
LAST-MODIFIED:20260325T171736Z
UID:10008003-1787904000-1787936400@jbleforcesupport.com
SUMMARY:April Fools Day
DESCRIPTION:From April 1St to30th\, place your joke in the joke jar at the entryway of the Riverview Event Center\, for a chance to win a prize! \nTwo drawings every week starting April 27th\, and the winner is announced on May 1st!
URL:https://jbleforcesupport.com/event/april-fools-day/2026-08-28/
LOCATION:Riverview Event Center\, 128 Benedict Ave
CATEGORIES:November
ATTACH;FMTTYPE=image/jpeg:https://jbleforcesupport.com/wp-content/uploads/2026/03/0401-0430-April-Fools-Day-Joke-Jar_web.jpg
END:VEVENT
BEGIN:VEVENT
DTSTART;TZID=UTC:20260828T180000
DTEND;TZID=UTC:20260828T200000
DTSTAMP:20260423T063453
CREATED:20260128T192004Z
LAST-MODIFIED:20260128T192004Z
UID:10007691-1787940000-1787947200@jbleforcesupport.com
SUMMARY:Community Game Night
DESCRIPTION:Free and open to all! \nGames will be provided\, and food & beverage will be available for purchase. \nPre-register here: https://manager.gallusgolf.com/Register/77784/community-game-night
URL:https://jbleforcesupport.com/event/community-game-night/2026-08-28/
LOCATION:Eaglewood Golf Course\, 630 Weyland Rd\, Langley AFB\, VA\, 23665\, United States
CATEGORIES:Eaglewood,Fun,Hot Events,November
ATTACH;FMTTYPE=image/jpeg:https://jbleforcesupport.com/wp-content/uploads/2026/01/0227-Community-Game-Night_web.jpg
END:VEVENT
BEGIN:VEVENT
DTSTART;TZID=UTC:20260829T080000
DTEND;TZID=UTC:20260829T170000
DTSTAMP:20260423T063453
CREATED:20260325T171723Z
LAST-MODIFIED:20260325T171736Z
UID:10008004-1787990400-1788022800@jbleforcesupport.com
SUMMARY:April Fools Day
DESCRIPTION:From April 1St to30th\, place your joke in the joke jar at the entryway of the Riverview Event Center\, for a chance to win a prize! \nTwo drawings every week starting April 27th\, and the winner is announced on May 1st!
URL:https://jbleforcesupport.com/event/april-fools-day/2026-08-29/
LOCATION:Riverview Event Center\, 128 Benedict Ave
CATEGORIES:November
ATTACH;FMTTYPE=image/jpeg:https://jbleforcesupport.com/wp-content/uploads/2026/03/0401-0430-April-Fools-Day-Joke-Jar_web.jpg
END:VEVENT
BEGIN:VEVENT
DTSTART;TZID=UTC:20260830T080000
DTEND;TZID=UTC:20260830T170000
DTSTAMP:20260423T063453
CREATED:20260325T171723Z
LAST-MODIFIED:20260325T171736Z
UID:10008005-1788076800-1788109200@jbleforcesupport.com
SUMMARY:April Fools Day
DESCRIPTION:From April 1St to30th\, place your joke in the joke jar at the entryway of the Riverview Event Center\, for a chance to win a prize! \nTwo drawings every week starting April 27th\, and the winner is announced on May 1st!
URL:https://jbleforcesupport.com/event/april-fools-day/2026-08-30/
LOCATION:Riverview Event Center\, 128 Benedict Ave
CATEGORIES:November
ATTACH;FMTTYPE=image/jpeg:https://jbleforcesupport.com/wp-content/uploads/2026/03/0401-0430-April-Fools-Day-Joke-Jar_web.jpg
END:VEVENT
BEGIN:VEVENT
DTSTART;TZID=UTC:20260831T080000
DTEND;TZID=UTC:20260831T170000
DTSTAMP:20260423T063453
CREATED:20260325T171723Z
LAST-MODIFIED:20260325T171736Z
UID:10008006-1788163200-1788195600@jbleforcesupport.com
SUMMARY:April Fools Day
DESCRIPTION:From April 1St to30th\, place your joke in the joke jar at the entryway of the Riverview Event Center\, for a chance to win a prize! \nTwo drawings every week starting April 27th\, and the winner is announced on May 1st!
URL:https://jbleforcesupport.com/event/april-fools-day/2026-08-31/
LOCATION:Riverview Event Center\, 128 Benedict Ave
CATEGORIES:November
ATTACH;FMTTYPE=image/jpeg:https://jbleforcesupport.com/wp-content/uploads/2026/03/0401-0430-April-Fools-Day-Joke-Jar_web.jpg
END:VEVENT
BEGIN:VEVENT
DTSTART;TZID=UTC:20260901T080000
DTEND;TZID=UTC:20260901T170000
DTSTAMP:20260423T063453
CREATED:20260325T171723Z
LAST-MODIFIED:20260325T171736Z
UID:10008007-1788249600-1788282000@jbleforcesupport.com
SUMMARY:April Fools Day
DESCRIPTION:From April 1St to30th\, place your joke in the joke jar at the entryway of the Riverview Event Center\, for a chance to win a prize! \nTwo drawings every week starting April 27th\, and the winner is announced on May 1st!
URL:https://jbleforcesupport.com/event/april-fools-day/2026-09-01/
LOCATION:Riverview Event Center\, 128 Benedict Ave
CATEGORIES:November
ATTACH;FMTTYPE=image/jpeg:https://jbleforcesupport.com/wp-content/uploads/2026/03/0401-0430-April-Fools-Day-Joke-Jar_web.jpg
END:VEVENT
BEGIN:VEVENT
DTSTART;TZID=UTC:20260902T080000
DTEND;TZID=UTC:20260902T170000
DTSTAMP:20260423T063453
CREATED:20260325T171723Z
LAST-MODIFIED:20260325T171736Z
UID:10008008-1788336000-1788368400@jbleforcesupport.com
SUMMARY:April Fools Day
DESCRIPTION:From April 1St to30th\, place your joke in the joke jar at the entryway of the Riverview Event Center\, for a chance to win a prize! \nTwo drawings every week starting April 27th\, and the winner is announced on May 1st!
URL:https://jbleforcesupport.com/event/april-fools-day/2026-09-02/
LOCATION:Riverview Event Center\, 128 Benedict Ave
CATEGORIES:November
ATTACH;FMTTYPE=image/jpeg:https://jbleforcesupport.com/wp-content/uploads/2026/03/0401-0430-April-Fools-Day-Joke-Jar_web.jpg
END:VEVENT
BEGIN:VEVENT
DTSTART;TZID=UTC:20260903T080000
DTEND;TZID=UTC:20260903T170000
DTSTAMP:20260423T063453
CREATED:20260325T171723Z
LAST-MODIFIED:20260325T171736Z
UID:10008009-1788422400-1788454800@jbleforcesupport.com
SUMMARY:April Fools Day
DESCRIPTION:From April 1St to30th\, place your joke in the joke jar at the entryway of the Riverview Event Center\, for a chance to win a prize! \nTwo drawings every week starting April 27th\, and the winner is announced on May 1st!
URL:https://jbleforcesupport.com/event/april-fools-day/2026-09-03/
LOCATION:Riverview Event Center\, 128 Benedict Ave
CATEGORIES:November
ATTACH;FMTTYPE=image/jpeg:https://jbleforcesupport.com/wp-content/uploads/2026/03/0401-0430-April-Fools-Day-Joke-Jar_web.jpg
END:VEVENT
BEGIN:VEVENT
DTSTART;TZID=UTC:20260904T080000
DTEND;TZID=UTC:20260904T170000
DTSTAMP:20260423T063453
CREATED:20260325T171723Z
LAST-MODIFIED:20260325T171736Z
UID:10008010-1788508800-1788541200@jbleforcesupport.com
SUMMARY:April Fools Day
DESCRIPTION:From April 1St to30th\, place your joke in the joke jar at the entryway of the Riverview Event Center\, for a chance to win a prize! \nTwo drawings every week starting April 27th\, and the winner is announced on May 1st!
URL:https://jbleforcesupport.com/event/april-fools-day/2026-09-04/
LOCATION:Riverview Event Center\, 128 Benedict Ave
CATEGORIES:November
ATTACH;FMTTYPE=image/jpeg:https://jbleforcesupport.com/wp-content/uploads/2026/03/0401-0430-April-Fools-Day-Joke-Jar_web.jpg
END:VEVENT
BEGIN:VEVENT
DTSTART;TZID=UTC:20260905T080000
DTEND;TZID=UTC:20260905T170000
DTSTAMP:20260423T063453
CREATED:20260325T171723Z
LAST-MODIFIED:20260325T171736Z
UID:10008011-1788595200-1788627600@jbleforcesupport.com
SUMMARY:April Fools Day
DESCRIPTION:From April 1St to30th\, place your joke in the joke jar at the entryway of the Riverview Event Center\, for a chance to win a prize! \nTwo drawings every week starting April 27th\, and the winner is announced on May 1st!
URL:https://jbleforcesupport.com/event/april-fools-day/2026-09-05/
LOCATION:Riverview Event Center\, 128 Benedict Ave
CATEGORIES:November
ATTACH;FMTTYPE=image/jpeg:https://jbleforcesupport.com/wp-content/uploads/2026/03/0401-0430-April-Fools-Day-Joke-Jar_web.jpg
END:VEVENT
BEGIN:VEVENT
DTSTART;TZID=UTC:20260906T080000
DTEND;TZID=UTC:20260906T170000
DTSTAMP:20260423T063453
CREATED:20260325T171723Z
LAST-MODIFIED:20260325T171736Z
UID:10008012-1788681600-1788714000@jbleforcesupport.com
SUMMARY:April Fools Day
DESCRIPTION:From April 1St to30th\, place your joke in the joke jar at the entryway of the Riverview Event Center\, for a chance to win a prize! \nTwo drawings every week starting April 27th\, and the winner is announced on May 1st!
URL:https://jbleforcesupport.com/event/april-fools-day/2026-09-06/
LOCATION:Riverview Event Center\, 128 Benedict Ave
CATEGORIES:November
ATTACH;FMTTYPE=image/jpeg:https://jbleforcesupport.com/wp-content/uploads/2026/03/0401-0430-April-Fools-Day-Joke-Jar_web.jpg
END:VEVENT
BEGIN:VEVENT
DTSTART;TZID=UTC:20260907T080000
DTEND;TZID=UTC:20260907T170000
DTSTAMP:20260423T063453
CREATED:20260325T171723Z
LAST-MODIFIED:20260325T171736Z
UID:10008013-1788768000-1788800400@jbleforcesupport.com
SUMMARY:April Fools Day
DESCRIPTION:From April 1St to30th\, place your joke in the joke jar at the entryway of the Riverview Event Center\, for a chance to win a prize! \nTwo drawings every week starting April 27th\, and the winner is announced on May 1st!
URL:https://jbleforcesupport.com/event/april-fools-day/2026-09-07/
LOCATION:Riverview Event Center\, 128 Benedict Ave
CATEGORIES:November
ATTACH;FMTTYPE=image/jpeg:https://jbleforcesupport.com/wp-content/uploads/2026/03/0401-0430-April-Fools-Day-Joke-Jar_web.jpg
END:VEVENT
BEGIN:VEVENT
DTSTART;TZID=UTC:20260908T080000
DTEND;TZID=UTC:20260908T170000
DTSTAMP:20260423T063453
CREATED:20260325T171723Z
LAST-MODIFIED:20260325T171736Z
UID:10008014-1788854400-1788886800@jbleforcesupport.com
SUMMARY:April Fools Day
DESCRIPTION:From April 1St to30th\, place your joke in the joke jar at the entryway of the Riverview Event Center\, for a chance to win a prize! \nTwo drawings every week starting April 27th\, and the winner is announced on May 1st!
URL:https://jbleforcesupport.com/event/april-fools-day/2026-09-08/
LOCATION:Riverview Event Center\, 128 Benedict Ave
CATEGORIES:November
ATTACH;FMTTYPE=image/jpeg:https://jbleforcesupport.com/wp-content/uploads/2026/03/0401-0430-April-Fools-Day-Joke-Jar_web.jpg
END:VEVENT
BEGIN:VEVENT
DTSTART;TZID=UTC:20260909T080000
DTEND;TZID=UTC:20260909T170000
DTSTAMP:20260423T063453
CREATED:20260325T171723Z
LAST-MODIFIED:20260325T171736Z
UID:10008015-1788940800-1788973200@jbleforcesupport.com
SUMMARY:April Fools Day
DESCRIPTION:From April 1St to30th\, place your joke in the joke jar at the entryway of the Riverview Event Center\, for a chance to win a prize! \nTwo drawings every week starting April 27th\, and the winner is announced on May 1st!
URL:https://jbleforcesupport.com/event/april-fools-day/2026-09-09/
LOCATION:Riverview Event Center\, 128 Benedict Ave
CATEGORIES:November
ATTACH;FMTTYPE=image/jpeg:https://jbleforcesupport.com/wp-content/uploads/2026/03/0401-0430-April-Fools-Day-Joke-Jar_web.jpg
END:VEVENT
BEGIN:VEVENT
DTSTART;TZID=UTC:20260910T080000
DTEND;TZID=UTC:20260910T170000
DTSTAMP:20260423T063453
CREATED:20260325T171723Z
LAST-MODIFIED:20260325T171736Z
UID:10008016-1789027200-1789059600@jbleforcesupport.com
SUMMARY:April Fools Day
DESCRIPTION:From April 1St to30th\, place your joke in the joke jar at the entryway of the Riverview Event Center\, for a chance to win a prize! \nTwo drawings every week starting April 27th\, and the winner is announced on May 1st!
URL:https://jbleforcesupport.com/event/april-fools-day/2026-09-10/
LOCATION:Riverview Event Center\, 128 Benedict Ave
CATEGORIES:November
ATTACH;FMTTYPE=image/jpeg:https://jbleforcesupport.com/wp-content/uploads/2026/03/0401-0430-April-Fools-Day-Joke-Jar_web.jpg
END:VEVENT
BEGIN:VEVENT
DTSTART;TZID=UTC:20260911T080000
DTEND;TZID=UTC:20260911T170000
DTSTAMP:20260423T063453
CREATED:20260325T171723Z
LAST-MODIFIED:20260325T171736Z
UID:10008017-1789113600-1789146000@jbleforcesupport.com
SUMMARY:April Fools Day
DESCRIPTION:From April 1St to30th\, place your joke in the joke jar at the entryway of the Riverview Event Center\, for a chance to win a prize! \nTwo drawings every week starting April 27th\, and the winner is announced on May 1st!
URL:https://jbleforcesupport.com/event/april-fools-day/2026-09-11/
LOCATION:Riverview Event Center\, 128 Benedict Ave
CATEGORIES:November
ATTACH;FMTTYPE=image/jpeg:https://jbleforcesupport.com/wp-content/uploads/2026/03/0401-0430-April-Fools-Day-Joke-Jar_web.jpg
END:VEVENT
BEGIN:VEVENT
DTSTART;TZID=UTC:20260912T080000
DTEND;TZID=UTC:20260912T170000
DTSTAMP:20260423T063453
CREATED:20260325T171723Z
LAST-MODIFIED:20260325T171736Z
UID:10008018-1789200000-1789232400@jbleforcesupport.com
SUMMARY:April Fools Day
DESCRIPTION:From April 1St to30th\, place your joke in the joke jar at the entryway of the Riverview Event Center\, for a chance to win a prize! \nTwo drawings every week starting April 27th\, and the winner is announced on May 1st!
URL:https://jbleforcesupport.com/event/april-fools-day/2026-09-12/
LOCATION:Riverview Event Center\, 128 Benedict Ave
CATEGORIES:November
ATTACH;FMTTYPE=image/jpeg:https://jbleforcesupport.com/wp-content/uploads/2026/03/0401-0430-April-Fools-Day-Joke-Jar_web.jpg
END:VEVENT
BEGIN:VEVENT
DTSTART;TZID=UTC:20260913T080000
DTEND;TZID=UTC:20260913T170000
DTSTAMP:20260423T063453
CREATED:20260325T171723Z
LAST-MODIFIED:20260325T171736Z
UID:10008019-1789286400-1789318800@jbleforcesupport.com
SUMMARY:April Fools Day
DESCRIPTION:From April 1St to30th\, place your joke in the joke jar at the entryway of the Riverview Event Center\, for a chance to win a prize! \nTwo drawings every week starting April 27th\, and the winner is announced on May 1st!
URL:https://jbleforcesupport.com/event/april-fools-day/2026-09-13/
LOCATION:Riverview Event Center\, 128 Benedict Ave
CATEGORIES:November
ATTACH;FMTTYPE=image/jpeg:https://jbleforcesupport.com/wp-content/uploads/2026/03/0401-0430-April-Fools-Day-Joke-Jar_web.jpg
END:VEVENT
BEGIN:VEVENT
DTSTART;TZID=UTC:20260914T080000
DTEND;TZID=UTC:20260914T170000
DTSTAMP:20260423T063453
CREATED:20260325T171723Z
LAST-MODIFIED:20260325T171736Z
UID:10008020-1789372800-1789405200@jbleforcesupport.com
SUMMARY:April Fools Day
DESCRIPTION:From April 1St to30th\, place your joke in the joke jar at the entryway of the Riverview Event Center\, for a chance to win a prize! \nTwo drawings every week starting April 27th\, and the winner is announced on May 1st!
URL:https://jbleforcesupport.com/event/april-fools-day/2026-09-14/
LOCATION:Riverview Event Center\, 128 Benedict Ave
CATEGORIES:November
ATTACH;FMTTYPE=image/jpeg:https://jbleforcesupport.com/wp-content/uploads/2026/03/0401-0430-April-Fools-Day-Joke-Jar_web.jpg
END:VEVENT
BEGIN:VEVENT
DTSTART;TZID=UTC:20260915T080000
DTEND;TZID=UTC:20260915T170000
DTSTAMP:20260423T063453
CREATED:20260325T171723Z
LAST-MODIFIED:20260325T171736Z
UID:10008021-1789459200-1789491600@jbleforcesupport.com
SUMMARY:April Fools Day
DESCRIPTION:From April 1St to30th\, place your joke in the joke jar at the entryway of the Riverview Event Center\, for a chance to win a prize! \nTwo drawings every week starting April 27th\, and the winner is announced on May 1st!
URL:https://jbleforcesupport.com/event/april-fools-day/2026-09-15/
LOCATION:Riverview Event Center\, 128 Benedict Ave
CATEGORIES:November
ATTACH;FMTTYPE=image/jpeg:https://jbleforcesupport.com/wp-content/uploads/2026/03/0401-0430-April-Fools-Day-Joke-Jar_web.jpg
END:VEVENT
BEGIN:VEVENT
DTSTART;TZID=UTC:20260916T080000
DTEND;TZID=UTC:20260916T170000
DTSTAMP:20260423T063453
CREATED:20260325T171723Z
LAST-MODIFIED:20260325T171736Z
UID:10008022-1789545600-1789578000@jbleforcesupport.com
SUMMARY:April Fools Day
DESCRIPTION:From April 1St to30th\, place your joke in the joke jar at the entryway of the Riverview Event Center\, for a chance to win a prize! \nTwo drawings every week starting April 27th\, and the winner is announced on May 1st!
URL:https://jbleforcesupport.com/event/april-fools-day/2026-09-16/
LOCATION:Riverview Event Center\, 128 Benedict Ave
CATEGORIES:November
ATTACH;FMTTYPE=image/jpeg:https://jbleforcesupport.com/wp-content/uploads/2026/03/0401-0430-April-Fools-Day-Joke-Jar_web.jpg
END:VEVENT
BEGIN:VEVENT
DTSTART;TZID=UTC:20260917T080000
DTEND;TZID=UTC:20260917T170000
DTSTAMP:20260423T063453
CREATED:20260325T171723Z
LAST-MODIFIED:20260325T171736Z
UID:10008023-1789632000-1789664400@jbleforcesupport.com
SUMMARY:April Fools Day
DESCRIPTION:From April 1St to30th\, place your joke in the joke jar at the entryway of the Riverview Event Center\, for a chance to win a prize! \nTwo drawings every week starting April 27th\, and the winner is announced on May 1st!
URL:https://jbleforcesupport.com/event/april-fools-day/2026-09-17/
LOCATION:Riverview Event Center\, 128 Benedict Ave
CATEGORIES:November
ATTACH;FMTTYPE=image/jpeg:https://jbleforcesupport.com/wp-content/uploads/2026/03/0401-0430-April-Fools-Day-Joke-Jar_web.jpg
END:VEVENT
BEGIN:VEVENT
DTSTART;TZID=UTC:20260918T080000
DTEND;TZID=UTC:20260918T170000
DTSTAMP:20260423T063453
CREATED:20260325T171723Z
LAST-MODIFIED:20260325T171736Z
UID:10008024-1789718400-1789750800@jbleforcesupport.com
SUMMARY:April Fools Day
DESCRIPTION:From April 1St to30th\, place your joke in the joke jar at the entryway of the Riverview Event Center\, for a chance to win a prize! \nTwo drawings every week starting April 27th\, and the winner is announced on May 1st!
URL:https://jbleforcesupport.com/event/april-fools-day/2026-09-18/
LOCATION:Riverview Event Center\, 128 Benedict Ave
CATEGORIES:November
ATTACH;FMTTYPE=image/jpeg:https://jbleforcesupport.com/wp-content/uploads/2026/03/0401-0430-April-Fools-Day-Joke-Jar_web.jpg
END:VEVENT
BEGIN:VEVENT
DTSTART;TZID=UTC:20260919T080000
DTEND;TZID=UTC:20260919T170000
DTSTAMP:20260423T063453
CREATED:20260325T171723Z
LAST-MODIFIED:20260325T171736Z
UID:10008025-1789804800-1789837200@jbleforcesupport.com
SUMMARY:April Fools Day
DESCRIPTION:From April 1St to30th\, place your joke in the joke jar at the entryway of the Riverview Event Center\, for a chance to win a prize! \nTwo drawings every week starting April 27th\, and the winner is announced on May 1st!
URL:https://jbleforcesupport.com/event/april-fools-day/2026-09-19/
LOCATION:Riverview Event Center\, 128 Benedict Ave
CATEGORIES:November
ATTACH;FMTTYPE=image/jpeg:https://jbleforcesupport.com/wp-content/uploads/2026/03/0401-0430-April-Fools-Day-Joke-Jar_web.jpg
END:VEVENT
BEGIN:VEVENT
DTSTART;TZID=UTC:20260920T080000
DTEND;TZID=UTC:20260920T170000
DTSTAMP:20260423T063453
CREATED:20260325T171723Z
LAST-MODIFIED:20260325T171736Z
UID:10008026-1789891200-1789923600@jbleforcesupport.com
SUMMARY:April Fools Day
DESCRIPTION:From April 1St to30th\, place your joke in the joke jar at the entryway of the Riverview Event Center\, for a chance to win a prize! \nTwo drawings every week starting April 27th\, and the winner is announced on May 1st!
URL:https://jbleforcesupport.com/event/april-fools-day/2026-09-20/
LOCATION:Riverview Event Center\, 128 Benedict Ave
CATEGORIES:November
ATTACH;FMTTYPE=image/jpeg:https://jbleforcesupport.com/wp-content/uploads/2026/03/0401-0430-April-Fools-Day-Joke-Jar_web.jpg
END:VEVENT
BEGIN:VEVENT
DTSTART;TZID=UTC:20260921T080000
DTEND;TZID=UTC:20260921T170000
DTSTAMP:20260423T063453
CREATED:20260325T171723Z
LAST-MODIFIED:20260325T171736Z
UID:10008027-1789977600-1790010000@jbleforcesupport.com
SUMMARY:April Fools Day
DESCRIPTION:From April 1St to30th\, place your joke in the joke jar at the entryway of the Riverview Event Center\, for a chance to win a prize! \nTwo drawings every week starting April 27th\, and the winner is announced on May 1st!
URL:https://jbleforcesupport.com/event/april-fools-day/2026-09-21/
LOCATION:Riverview Event Center\, 128 Benedict Ave
CATEGORIES:November
ATTACH;FMTTYPE=image/jpeg:https://jbleforcesupport.com/wp-content/uploads/2026/03/0401-0430-April-Fools-Day-Joke-Jar_web.jpg
END:VEVENT
BEGIN:VEVENT
DTSTART;TZID=UTC:20260922T080000
DTEND;TZID=UTC:20260922T170000
DTSTAMP:20260423T063453
CREATED:20260325T171723Z
LAST-MODIFIED:20260325T171736Z
UID:10008028-1790064000-1790096400@jbleforcesupport.com
SUMMARY:April Fools Day
DESCRIPTION:From April 1St to30th\, place your joke in the joke jar at the entryway of the Riverview Event Center\, for a chance to win a prize! \nTwo drawings every week starting April 27th\, and the winner is announced on May 1st!
URL:https://jbleforcesupport.com/event/april-fools-day/2026-09-22/
LOCATION:Riverview Event Center\, 128 Benedict Ave
CATEGORIES:November
ATTACH;FMTTYPE=image/jpeg:https://jbleforcesupport.com/wp-content/uploads/2026/03/0401-0430-April-Fools-Day-Joke-Jar_web.jpg
END:VEVENT
END:VCALENDAR