BEGIN:VCALENDAR
VERSION:2.0
PRODID:-//Langley Air Force Base - ECPv6.15.20//NONSGML v1.0//EN
CALSCALE:GREGORIAN
METHOD:PUBLISH
X-WR-CALNAME:Langley Air Force Base
X-ORIGINAL-URL:https://jbleforcesupport.com
X-WR-CALDESC:Events for Langley Air Force Base
REFRESH-INTERVAL;VALUE=DURATION:PT1H
X-Robots-Tag:noindex
X-PUBLISHED-TTL:PT1H
BEGIN:VTIMEZONE
TZID:UTC
BEGIN:STANDARD
TZOFFSETFROM:+0000
TZOFFSETTO:+0000
TZNAME:UTC
DTSTART:20250101T000000
END:STANDARD
END:VTIMEZONE
BEGIN:VEVENT
DTSTART;TZID=UTC:20260414T080000
DTEND;TZID=UTC:20260414T170000
DTSTAMP:20260422T055019
CREATED:20260325T171723Z
LAST-MODIFIED:20260325T171736Z
UID:10007867-1776153600-1776186000@jbleforcesupport.com
SUMMARY:April Fools Day
DESCRIPTION:From April 1St to30th\, place your joke in the joke jar at the entryway of the Riverview Event Center\, for a chance to win a prize! \nTwo drawings every week starting April 27th\, and the winner is announced on May 1st!
URL:https://jbleforcesupport.com/event/april-fools-day/2026-04-14/
LOCATION:Riverview Event Center\, 128 Benedict Ave
CATEGORIES:November
ATTACH;FMTTYPE=image/jpeg:https://jbleforcesupport.com/wp-content/uploads/2026/03/0401-0430-April-Fools-Day-Joke-Jar_web.jpg
END:VEVENT
BEGIN:VEVENT
DTSTART;TZID=UTC:20260413T130000
DTEND;TZID=UTC:20260413T150000
DTSTAMP:20260422T055019
CREATED:20260326T174350Z
LAST-MODIFIED:20260326T174350Z
UID:10008261-1776085200-1776092400@jbleforcesupport.com
SUMMARY:Art Journaling
DESCRIPTION:Step away from noise and onto the page! Whether you’re an adult looking for a creative outlet or a family with kids (ages 8+) ready to explore together\, this workshop is for you. Through a curated mix of creative prompts\, we’ll help you translate thoughts and feelings into color and texture. Zero experience is needed\, and all supplies are included. \nAges: 18+ and families with children 8+
URL:https://jbleforcesupport.com/event/art-journaling/2026-04-13/
LOCATION:Bateman Library\, 42 Ash Ave\, Langley AFB\, 23665
CATEGORIES:November
ATTACH;FMTTYPE=image/png:https://jbleforcesupport.com/wp-content/uploads/2026/03/Website_-Art-Journaling.png
END:VEVENT
BEGIN:VEVENT
DTSTART;TZID=UTC:20260413T080000
DTEND;TZID=UTC:20260413T170000
DTSTAMP:20260422T055019
CREATED:20260325T171723Z
LAST-MODIFIED:20260325T171736Z
UID:10007866-1776067200-1776099600@jbleforcesupport.com
SUMMARY:April Fools Day
DESCRIPTION:From April 1St to30th\, place your joke in the joke jar at the entryway of the Riverview Event Center\, for a chance to win a prize! \nTwo drawings every week starting April 27th\, and the winner is announced on May 1st!
URL:https://jbleforcesupport.com/event/april-fools-day/2026-04-13/
LOCATION:Riverview Event Center\, 128 Benedict Ave
CATEGORIES:November
ATTACH;FMTTYPE=image/jpeg:https://jbleforcesupport.com/wp-content/uploads/2026/03/0401-0430-April-Fools-Day-Joke-Jar_web.jpg
END:VEVENT
BEGIN:VEVENT
DTSTART;TZID=UTC:20260412T080000
DTEND;TZID=UTC:20260412T170000
DTSTAMP:20260422T055019
CREATED:20260325T171723Z
LAST-MODIFIED:20260325T171736Z
UID:10007865-1775980800-1776013200@jbleforcesupport.com
SUMMARY:April Fools Day
DESCRIPTION:From April 1St to30th\, place your joke in the joke jar at the entryway of the Riverview Event Center\, for a chance to win a prize! \nTwo drawings every week starting April 27th\, and the winner is announced on May 1st!
URL:https://jbleforcesupport.com/event/april-fools-day/2026-04-12/
LOCATION:Riverview Event Center\, 128 Benedict Ave
CATEGORIES:November
ATTACH;FMTTYPE=image/jpeg:https://jbleforcesupport.com/wp-content/uploads/2026/03/0401-0430-April-Fools-Day-Joke-Jar_web.jpg
END:VEVENT
BEGIN:VEVENT
DTSTART;TZID=UTC:20260411T080000
DTEND;TZID=UTC:20260411T170000
DTSTAMP:20260422T055019
CREATED:20260325T171723Z
LAST-MODIFIED:20260325T171736Z
UID:10007864-1775894400-1775926800@jbleforcesupport.com
SUMMARY:April Fools Day
DESCRIPTION:From April 1St to30th\, place your joke in the joke jar at the entryway of the Riverview Event Center\, for a chance to win a prize! \nTwo drawings every week starting April 27th\, and the winner is announced on May 1st!
URL:https://jbleforcesupport.com/event/april-fools-day/2026-04-11/
LOCATION:Riverview Event Center\, 128 Benedict Ave
CATEGORIES:November
ATTACH;FMTTYPE=image/jpeg:https://jbleforcesupport.com/wp-content/uploads/2026/03/0401-0430-April-Fools-Day-Joke-Jar_web.jpg
END:VEVENT
BEGIN:VEVENT
DTSTART;TZID=UTC:20260410T080000
DTEND;TZID=UTC:20260410T170000
DTSTAMP:20260422T055019
CREATED:20260325T171723Z
LAST-MODIFIED:20260325T171736Z
UID:10007863-1775808000-1775840400@jbleforcesupport.com
SUMMARY:April Fools Day
DESCRIPTION:From April 1St to30th\, place your joke in the joke jar at the entryway of the Riverview Event Center\, for a chance to win a prize! \nTwo drawings every week starting April 27th\, and the winner is announced on May 1st!
URL:https://jbleforcesupport.com/event/april-fools-day/2026-04-10/
LOCATION:Riverview Event Center\, 128 Benedict Ave
CATEGORIES:November
ATTACH;FMTTYPE=image/jpeg:https://jbleforcesupport.com/wp-content/uploads/2026/03/0401-0430-April-Fools-Day-Joke-Jar_web.jpg
END:VEVENT
BEGIN:VEVENT
DTSTART;TZID=UTC:20260409T130000
DTEND;TZID=UTC:20260409T150000
DTSTAMP:20260422T055019
CREATED:20260326T180432Z
LAST-MODIFIED:20260326T180432Z
UID:10008266-1775739600-1775746800@jbleforcesupport.com
SUMMARY:Homeschool Hangout
DESCRIPTION:Do you homeschool your kids? Join us for planned activities and socializing! The spring semester is recommended for elementary & middle school students. Spring Semester Topic: Pick Your Passion! With the Muse Writers Center.
URL:https://jbleforcesupport.com/event/homeschool-hangout-2/
LOCATION:Bateman Library\, 42 Ash Ave\, Langley AFB\, 23665
CATEGORIES:Fun,Library,November
ATTACH;FMTTYPE=image/png:https://jbleforcesupport.com/wp-content/uploads/2026/03/Website_-Homeschool-Hangou.png
END:VEVENT
BEGIN:VEVENT
DTSTART;TZID=UTC:20260409T080000
DTEND;TZID=UTC:20260409T170000
DTSTAMP:20260422T055019
CREATED:20260325T171723Z
LAST-MODIFIED:20260325T171736Z
UID:10007862-1775721600-1775754000@jbleforcesupport.com
SUMMARY:April Fools Day
DESCRIPTION:From April 1St to30th\, place your joke in the joke jar at the entryway of the Riverview Event Center\, for a chance to win a prize! \nTwo drawings every week starting April 27th\, and the winner is announced on May 1st!
URL:https://jbleforcesupport.com/event/april-fools-day/2026-04-09/
LOCATION:Riverview Event Center\, 128 Benedict Ave
CATEGORIES:November
ATTACH;FMTTYPE=image/jpeg:https://jbleforcesupport.com/wp-content/uploads/2026/03/0401-0430-April-Fools-Day-Joke-Jar_web.jpg
END:VEVENT
BEGIN:VEVENT
DTSTART;TZID=UTC:20260408T103000
DTEND;TZID=UTC:20260408T113000
DTSTAMP:20260422T055019
CREATED:20260326T181157Z
LAST-MODIFIED:20260326T181157Z
UID:10008268-1775644200-1775647800@jbleforcesupport.com
SUMMARY:Story Time
DESCRIPTION:Join us Wednesdays at 10:30 AM for stories\, songs\, and activities with new friends. April themes are Dinosaurs\, Baby Chicks\, Dragons\, Elephants\, and Llamas. Story Time will take a break in May and return during our Summer Reading Program (June-July).
URL:https://jbleforcesupport.com/event/story-time-4/2026-04-08/
LOCATION:Bateman Library\, 42 Ash Ave\, Langley AFB\, 23665
CATEGORIES:November
ATTACH;FMTTYPE=image/png:https://jbleforcesupport.com/wp-content/uploads/2026/03/Website_-Story-Time.png
END:VEVENT
BEGIN:VEVENT
DTSTART;TZID=UTC:20260408T080000
DTEND;TZID=UTC:20260408T170000
DTSTAMP:20260422T055019
CREATED:20260325T171723Z
LAST-MODIFIED:20260325T171736Z
UID:10007861-1775635200-1775667600@jbleforcesupport.com
SUMMARY:April Fools Day
DESCRIPTION:From April 1St to30th\, place your joke in the joke jar at the entryway of the Riverview Event Center\, for a chance to win a prize! \nTwo drawings every week starting April 27th\, and the winner is announced on May 1st!
URL:https://jbleforcesupport.com/event/april-fools-day/2026-04-08/
LOCATION:Riverview Event Center\, 128 Benedict Ave
CATEGORIES:November
ATTACH;FMTTYPE=image/jpeg:https://jbleforcesupport.com/wp-content/uploads/2026/03/0401-0430-April-Fools-Day-Joke-Jar_web.jpg
END:VEVENT
BEGIN:VEVENT
DTSTART;TZID=UTC:20260407T080000
DTEND;TZID=UTC:20260407T170000
DTSTAMP:20260422T055019
CREATED:20260325T171723Z
LAST-MODIFIED:20260325T171736Z
UID:10007860-1775548800-1775581200@jbleforcesupport.com
SUMMARY:April Fools Day
DESCRIPTION:From April 1St to30th\, place your joke in the joke jar at the entryway of the Riverview Event Center\, for a chance to win a prize! \nTwo drawings every week starting April 27th\, and the winner is announced on May 1st!
URL:https://jbleforcesupport.com/event/april-fools-day/2026-04-07/
LOCATION:Riverview Event Center\, 128 Benedict Ave
CATEGORIES:November
ATTACH;FMTTYPE=image/jpeg:https://jbleforcesupport.com/wp-content/uploads/2026/03/0401-0430-April-Fools-Day-Joke-Jar_web.jpg
END:VEVENT
BEGIN:VEVENT
DTSTART;TZID=UTC:20260406T080000
DTEND;TZID=UTC:20260406T170000
DTSTAMP:20260422T055019
CREATED:20260325T171723Z
LAST-MODIFIED:20260325T171736Z
UID:10007859-1775462400-1775494800@jbleforcesupport.com
SUMMARY:April Fools Day
DESCRIPTION:From April 1St to30th\, place your joke in the joke jar at the entryway of the Riverview Event Center\, for a chance to win a prize! \nTwo drawings every week starting April 27th\, and the winner is announced on May 1st!
URL:https://jbleforcesupport.com/event/april-fools-day/2026-04-06/
LOCATION:Riverview Event Center\, 128 Benedict Ave
CATEGORIES:November
ATTACH;FMTTYPE=image/jpeg:https://jbleforcesupport.com/wp-content/uploads/2026/03/0401-0430-April-Fools-Day-Joke-Jar_web.jpg
END:VEVENT
BEGIN:VEVENT
DTSTART;TZID=UTC:20260405T080000
DTEND;TZID=UTC:20260405T170000
DTSTAMP:20260422T055019
CREATED:20260325T171723Z
LAST-MODIFIED:20260325T171736Z
UID:10007858-1775376000-1775408400@jbleforcesupport.com
SUMMARY:April Fools Day
DESCRIPTION:From April 1St to30th\, place your joke in the joke jar at the entryway of the Riverview Event Center\, for a chance to win a prize! \nTwo drawings every week starting April 27th\, and the winner is announced on May 1st!
URL:https://jbleforcesupport.com/event/april-fools-day/2026-04-05/
LOCATION:Riverview Event Center\, 128 Benedict Ave
CATEGORIES:November
ATTACH;FMTTYPE=image/jpeg:https://jbleforcesupport.com/wp-content/uploads/2026/03/0401-0430-April-Fools-Day-Joke-Jar_web.jpg
END:VEVENT
BEGIN:VEVENT
DTSTART;TZID=UTC:20260404T080000
DTEND;TZID=UTC:20260404T170000
DTSTAMP:20260422T055019
CREATED:20260325T171723Z
LAST-MODIFIED:20260325T171736Z
UID:10007857-1775289600-1775322000@jbleforcesupport.com
SUMMARY:April Fools Day
DESCRIPTION:From April 1St to30th\, place your joke in the joke jar at the entryway of the Riverview Event Center\, for a chance to win a prize! \nTwo drawings every week starting April 27th\, and the winner is announced on May 1st!
URL:https://jbleforcesupport.com/event/april-fools-day/2026-04-04/
LOCATION:Riverview Event Center\, 128 Benedict Ave
CATEGORIES:November
ATTACH;FMTTYPE=image/jpeg:https://jbleforcesupport.com/wp-content/uploads/2026/03/0401-0430-April-Fools-Day-Joke-Jar_web.jpg
END:VEVENT
BEGIN:VEVENT
DTSTART;TZID=UTC:20260403T080000
DTEND;TZID=UTC:20260403T170000
DTSTAMP:20260422T055019
CREATED:20260325T171723Z
LAST-MODIFIED:20260325T171736Z
UID:10007856-1775203200-1775235600@jbleforcesupport.com
SUMMARY:April Fools Day
DESCRIPTION:From April 1St to30th\, place your joke in the joke jar at the entryway of the Riverview Event Center\, for a chance to win a prize! \nTwo drawings every week starting April 27th\, and the winner is announced on May 1st!
URL:https://jbleforcesupport.com/event/april-fools-day/2026-04-03/
LOCATION:Riverview Event Center\, 128 Benedict Ave
CATEGORIES:November
ATTACH;FMTTYPE=image/jpeg:https://jbleforcesupport.com/wp-content/uploads/2026/03/0401-0430-April-Fools-Day-Joke-Jar_web.jpg
END:VEVENT
BEGIN:VEVENT
DTSTART;TZID=UTC:20260402T080000
DTEND;TZID=UTC:20260402T170000
DTSTAMP:20260422T055019
CREATED:20260325T171723Z
LAST-MODIFIED:20260325T171736Z
UID:10007855-1775116800-1775149200@jbleforcesupport.com
SUMMARY:April Fools Day
DESCRIPTION:From April 1St to30th\, place your joke in the joke jar at the entryway of the Riverview Event Center\, for a chance to win a prize! \nTwo drawings every week starting April 27th\, and the winner is announced on May 1st!
URL:https://jbleforcesupport.com/event/april-fools-day/2026-04-02/
LOCATION:Riverview Event Center\, 128 Benedict Ave
CATEGORIES:November
ATTACH;FMTTYPE=image/jpeg:https://jbleforcesupport.com/wp-content/uploads/2026/03/0401-0430-April-Fools-Day-Joke-Jar_web.jpg
END:VEVENT
BEGIN:VEVENT
DTSTART;TZID=UTC:20260401T103000
DTEND;TZID=UTC:20260401T113000
DTSTAMP:20260422T055019
CREATED:20260326T181157Z
LAST-MODIFIED:20260326T181157Z
UID:10008267-1775039400-1775043000@jbleforcesupport.com
SUMMARY:Story Time
DESCRIPTION:Join us Wednesdays at 10:30 AM for stories\, songs\, and activities with new friends. April themes are Dinosaurs\, Baby Chicks\, Dragons\, Elephants\, and Llamas. Story Time will take a break in May and return during our Summer Reading Program (June-July).
URL:https://jbleforcesupport.com/event/story-time-4/2026-04-01/
LOCATION:Bateman Library\, 42 Ash Ave\, Langley AFB\, 23665
CATEGORIES:November
ATTACH;FMTTYPE=image/png:https://jbleforcesupport.com/wp-content/uploads/2026/03/Website_-Story-Time.png
END:VEVENT
BEGIN:VEVENT
DTSTART;TZID=UTC:20260401T080000
DTEND;TZID=UTC:20260401T170000
DTSTAMP:20260422T055019
CREATED:20260325T171723Z
LAST-MODIFIED:20260325T171736Z
UID:10007854-1775030400-1775062800@jbleforcesupport.com
SUMMARY:April Fools Day
DESCRIPTION:From April 1St to30th\, place your joke in the joke jar at the entryway of the Riverview Event Center\, for a chance to win a prize! \nTwo drawings every week starting April 27th\, and the winner is announced on May 1st!
URL:https://jbleforcesupport.com/event/april-fools-day/2026-04-01/
LOCATION:Riverview Event Center\, 128 Benedict Ave
CATEGORIES:November
ATTACH;FMTTYPE=image/jpeg:https://jbleforcesupport.com/wp-content/uploads/2026/03/0401-0430-April-Fools-Day-Joke-Jar_web.jpg
END:VEVENT
BEGIN:VEVENT
DTSTART;TZID=UTC:20260327T170000
DTEND;TZID=UTC:20260327T190000
DTSTAMP:20260422T055019
CREATED:20260105T185541Z
LAST-MODIFIED:20260105T185541Z
UID:10007612-1774630800-1774638000@jbleforcesupport.com
SUMMARY:Langley Magic Gathering
DESCRIPTION:Prepare your decks and gather your friends! Join us for epic nights of Magic: The Gathering \nGame Format: Chosen by player votes. Open to ages 15+
URL:https://jbleforcesupport.com/event/langley-magic-gathering/2026-03-27/
LOCATION:Community Programs\, 128 Benedict Ave\, Langley AFB\, 23665
CATEGORIES:November
ATTACH;FMTTYPE=image/jpeg:https://jbleforcesupport.com/wp-content/uploads/2026/01/0102-0327-Langley-Magic-Gathering_web.jpg
END:VEVENT
BEGIN:VEVENT
DTSTART;TZID=UTC:20260327T110000
DTEND;TZID=UTC:20260327T140000
DTSTAMP:20260422T055019
CREATED:20260225T174735Z
LAST-MODIFIED:20260225T174735Z
UID:10007788-1774609200-1774620000@jbleforcesupport.com
SUMMARY:Langley Jiu-Jitsu Tournament Invitational
DESCRIPTION:Free & open to all! \nWeight classes: 140 lbs | 170lbs | 200 lbs\n4 spots per weight class \nTournament officials: Ruben Perez – Head Instructor of Army Combatives\, Fort Eustis | Vincent Castro Jiu-Jitsu Instructor\, Langley Air Force Base \nBrazillian Jiu-Jitsu only!    \nTo register: https://www.signupgenius.com/go/10C084DABAE2CA4F9C61-62212371-langley?useFullSite=true#/
URL:https://jbleforcesupport.com/event/langley-jiu-jitsu-tournament-invitational/
LOCATION:Shellbank Fitness Center\, 36 Sweeney Blvd\, Langley AFB\, 23665
CATEGORIES:ACC Fitness Center,Fitness,Fun,November,Shellback Fitness Center
ATTACH;FMTTYPE=image/jpeg:https://jbleforcesupport.com/wp-content/uploads/2026/02/0327-Langley-Jiu-Jit-Tsu-Tournament-Invitational_web.jpg
END:VEVENT
BEGIN:VEVENT
DTSTART;TZID=UTC:20260325T173000
DTEND;TZID=UTC:20260325T193000
DTSTAMP:20260422T055019
CREATED:20260219T190345Z
LAST-MODIFIED:20260302T144949Z
UID:10007744-1774459800-1774467000@jbleforcesupport.com
SUMMARY:March Movie Nights
DESCRIPTION:Wednesday\, March 4 Gabby’s Dollhouse (G) – moved to Riverview Event Center  \nWednesday\, March 11 Demon Slayer: Kimetsu No Yaiba Infinity Castle (R) – Rec Ballroom \nWednesday\, March 18 Soul On Fire (PG) – Williamsburg Room \nWednesday\, March 25 Tron: Ares (PG-13) – Williamsburg Room \nAll shows start at 5:30 pm. No outside food permitted; all outside drinks must have a lid. One FREE popcorn for club members.
URL:https://jbleforcesupport.com/event/march-movie-nights/2026-03-25/
CATEGORIES:Fun,November,Riverview Event Center
ATTACH;FMTTYPE=image/jpeg:https://jbleforcesupport.com/wp-content/uploads/2026/02/0304-0325-March-Movie-Nights_web.jpg
END:VEVENT
BEGIN:VEVENT
DTSTART;TZID=UTC:20260323T130000
DTEND;TZID=UTC:20260323T150000
DTSTAMP:20260422T055019
CREATED:20260223T195639Z
LAST-MODIFIED:20260223T195639Z
UID:10007782-1774270800-1774278000@jbleforcesupport.com
SUMMARY:Mindful Journaling Workshop
DESCRIPTION:In partnership with the Muse Writers Center\, learn how to use journaling as a tool for self-awareness\, stress reduction\, and inner peace. No writing experience needed – just an open mind and a willingness to explore! This workshop is perfect for families with deployed service members and anyone who wants to be more mindful. Registration is encouraged\, but not required: http://bit.ly/48xww6v.  \nAge: 18+
URL:https://jbleforcesupport.com/event/mindful-journaling-workshop/2026-03-23/
CATEGORIES:Family,Library,November
ATTACH;FMTTYPE=image/png:https://jbleforcesupport.com/wp-content/uploads/2026/02/FSDL-Journal-Workshop.png
END:VEVENT
BEGIN:VEVENT
DTSTART;TZID=UTC:20260319T163000
DTEND;TZID=UTC:20260319T173000
DTSTAMP:20260422T055019
CREATED:20260220T185829Z
LAST-MODIFIED:20260220T185829Z
UID:10007755-1773937800-1773941400@jbleforcesupport.com
SUMMARY:Sand Art
DESCRIPTION:Join us for a fun kids craft of making sand art in a bottle. All supplies provided. Limited to one craft per person. \nRegister in person at Community Programs. Registration deadline is March 18!  \nChildren must be supervised by an adult at all times
URL:https://jbleforcesupport.com/event/sand-art/
LOCATION:Community Programs\, 128 Benedict Ave\, Langley AFB\, 23665
CATEGORIES:November
ATTACH;FMTTYPE=image/jpeg:https://jbleforcesupport.com/wp-content/uploads/2026/02/0319-Sand-Art_web.jpg
END:VEVENT
BEGIN:VEVENT
DTSTART;TZID=UTC:20260318T173000
DTEND;TZID=UTC:20260318T193000
DTSTAMP:20260422T055019
CREATED:20260219T190345Z
LAST-MODIFIED:20260302T144949Z
UID:10007743-1773855000-1773862200@jbleforcesupport.com
SUMMARY:March Movie Nights
DESCRIPTION:Wednesday\, March 4 Gabby’s Dollhouse (G) – moved to Riverview Event Center  \nWednesday\, March 11 Demon Slayer: Kimetsu No Yaiba Infinity Castle (R) – Rec Ballroom \nWednesday\, March 18 Soul On Fire (PG) – Williamsburg Room \nWednesday\, March 25 Tron: Ares (PG-13) – Williamsburg Room \nAll shows start at 5:30 pm. No outside food permitted; all outside drinks must have a lid. One FREE popcorn for club members.
URL:https://jbleforcesupport.com/event/march-movie-nights/2026-03-18/
CATEGORIES:Fun,November,Riverview Event Center
ATTACH;FMTTYPE=image/jpeg:https://jbleforcesupport.com/wp-content/uploads/2026/02/0304-0325-March-Movie-Nights_web.jpg
END:VEVENT
BEGIN:VEVENT
DTSTART;TZID=UTC:20260314T190000
DTEND;TZID=UTC:20260314T220000
DTSTAMP:20260422T055019
CREATED:20260220T155134Z
LAST-MODIFIED:20260220T162936Z
UID:10007754-1773514800-1773525600@jbleforcesupport.com
SUMMARY:St Patrick's Day Colorama
DESCRIPTION:Wear your green\, bring your lucky charm\, and bowl your way to a shamrockin’ good time! If the lucky red pin is found in the headpin spot and you score a strike\, you will have a chance to spin the prize wheel! \nCost: $20 per person\, shoes included! 
URL:https://jbleforcesupport.com/event/st-patricks-day-colorama/
LOCATION:Langley Lanes Bowling Center\, 75 Nealy Ave\, Langley AFB\, 23665
CATEGORIES:Family,Fun,Langley Lanes,November
ATTACH;FMTTYPE=image/png:https://jbleforcesupport.com/wp-content/uploads/2026/02/Screenshot-2026-02-20-at-11.27.09-AM.png
END:VEVENT
BEGIN:VEVENT
DTSTART;TZID=UTC:20260314T080000
DTEND;TZID=UTC:20260314T170000
DTSTAMP:20260422T055019
CREATED:20260220T154026Z
LAST-MODIFIED:20260220T154026Z
UID:10007753-1773475200-1773507600@jbleforcesupport.com
SUMMARY:Lone Ranger 4-Person Scramble
DESCRIPTION:Start time: 8 AM \nCost: $15 + golf fees. \nLunch is included in the price! \nTo register: https://manager.gallusgolf.com/Register/77785/lone-ranger-4-person-scramble \n 
URL:https://jbleforcesupport.com/event/lone-ranger-4-person-scramble/
LOCATION:Eaglewood Golf Course\, 630 Weyland Rd\, Langley AFB\, VA\, 23665\, United States
CATEGORIES:November
ATTACH;FMTTYPE=image/jpeg:https://jbleforcesupport.com/wp-content/uploads/2026/02/0314-Lone-Ranger-4-Person-Scramble_web.jpg
END:VEVENT
BEGIN:VEVENT
DTSTART;TZID=UTC:20260313T170000
DTEND;TZID=UTC:20260313T190000
DTSTAMP:20260422T055019
CREATED:20260105T185541Z
LAST-MODIFIED:20260105T185541Z
UID:10007611-1773421200-1773428400@jbleforcesupport.com
SUMMARY:Langley Magic Gathering
DESCRIPTION:Prepare your decks and gather your friends! Join us for epic nights of Magic: The Gathering \nGame Format: Chosen by player votes. Open to ages 15+
URL:https://jbleforcesupport.com/event/langley-magic-gathering/2026-03-13/
LOCATION:Community Programs\, 128 Benedict Ave\, Langley AFB\, 23665
CATEGORIES:November
ATTACH;FMTTYPE=image/jpeg:https://jbleforcesupport.com/wp-content/uploads/2026/01/0102-0327-Langley-Magic-Gathering_web.jpg
END:VEVENT
BEGIN:VEVENT
DTSTART;TZID=UTC:20260312T163000
DTEND;TZID=UTC:20260312T183000
DTSTAMP:20260422T055019
CREATED:20260220T152518Z
LAST-MODIFIED:20260220T152518Z
UID:10007752-1773333000-1773340200@jbleforcesupport.com
SUMMARY:Cornhole Tournament
DESCRIPTION:Teams of 2! Call or visit Community Programs to sign up today!
URL:https://jbleforcesupport.com/event/cornhole-tournament/
LOCATION:Riverview Event Center\, 128 Benedict Ave
CATEGORIES:November
ATTACH;FMTTYPE=image/jpeg:https://jbleforcesupport.com/wp-content/uploads/2026/02/0312-Cornhole-Tournament_web.jpg
END:VEVENT
BEGIN:VEVENT
DTSTART;TZID=UTC:20260311T173000
DTEND;TZID=UTC:20260311T193000
DTSTAMP:20260422T055019
CREATED:20260219T190345Z
LAST-MODIFIED:20260302T144949Z
UID:10007742-1773250200-1773257400@jbleforcesupport.com
SUMMARY:March Movie Nights
DESCRIPTION:Wednesday\, March 4 Gabby’s Dollhouse (G) – moved to Riverview Event Center  \nWednesday\, March 11 Demon Slayer: Kimetsu No Yaiba Infinity Castle (R) – Rec Ballroom \nWednesday\, March 18 Soul On Fire (PG) – Williamsburg Room \nWednesday\, March 25 Tron: Ares (PG-13) – Williamsburg Room \nAll shows start at 5:30 pm. No outside food permitted; all outside drinks must have a lid. One FREE popcorn for club members.
URL:https://jbleforcesupport.com/event/march-movie-nights/2026-03-11/
CATEGORIES:Fun,November,Riverview Event Center
ATTACH;FMTTYPE=image/jpeg:https://jbleforcesupport.com/wp-content/uploads/2026/02/0304-0325-March-Movie-Nights_web.jpg
END:VEVENT
BEGIN:VEVENT
DTSTART;TZID=UTC:20260310T170000
DTEND;TZID=UTC:20260310T190000
DTSTAMP:20260422T055019
CREATED:20260223T194700Z
LAST-MODIFIED:20260223T194700Z
UID:10007780-1773162000-1773169200@jbleforcesupport.com
SUMMARY:DIY Leprechaun Trap
DESCRIPTION:Are you clever enough to catch a leprechaun this St. Patrick’s Day? Drop by the library to create your own leprechaun trap to snag yourself a bit o’ Irish luck this year! All materials provided.  Available for all ages.
URL:https://jbleforcesupport.com/event/diy-leprechaun-trap/
CATEGORIES:Family,November
ATTACH;FMTTYPE=image/png:https://jbleforcesupport.com/wp-content/uploads/2026/02/3.png
END:VEVENT
END:VCALENDAR