BEGIN:VCALENDAR
VERSION:2.0
PRODID:-//Langley Air Force Base - ECPv6.15.20//NONSGML v1.0//EN
CALSCALE:GREGORIAN
METHOD:PUBLISH
X-ORIGINAL-URL:https://jbleforcesupport.com
X-WR-CALDESC:Events for Langley Air Force Base
REFRESH-INTERVAL;VALUE=DURATION:PT1H
X-Robots-Tag:noindex
X-PUBLISHED-TTL:PT1H
BEGIN:VTIMEZONE
TZID:UTC
BEGIN:STANDARD
TZOFFSETFROM:+0000
TZOFFSETTO:+0000
TZNAME:UTC
DTSTART:20250101T000000
END:STANDARD
END:VTIMEZONE
BEGIN:VEVENT
DTSTART;TZID=UTC:20260915T080000
DTEND;TZID=UTC:20260915T170000
DTSTAMP:20260422T221930
CREATED:20260325T171723Z
LAST-MODIFIED:20260325T171736Z
UID:10008021-1789459200-1789491600@jbleforcesupport.com
SUMMARY:April Fools Day
DESCRIPTION:From April 1St to30th\, place your joke in the joke jar at the entryway of the Riverview Event Center\, for a chance to win a prize! \nTwo drawings every week starting April 27th\, and the winner is announced on May 1st!
URL:https://jbleforcesupport.com/event/april-fools-day/2026-09-15/
LOCATION:Riverview Event Center\, 128 Benedict Ave
CATEGORIES:November
ATTACH;FMTTYPE=image/jpeg:https://jbleforcesupport.com/wp-content/uploads/2026/03/0401-0430-April-Fools-Day-Joke-Jar_web.jpg
END:VEVENT
BEGIN:VEVENT
DTSTART;TZID=UTC:20260916T080000
DTEND;TZID=UTC:20260916T170000
DTSTAMP:20260422T221930
CREATED:20260325T171723Z
LAST-MODIFIED:20260325T171736Z
UID:10008022-1789545600-1789578000@jbleforcesupport.com
SUMMARY:April Fools Day
DESCRIPTION:From April 1St to30th\, place your joke in the joke jar at the entryway of the Riverview Event Center\, for a chance to win a prize! \nTwo drawings every week starting April 27th\, and the winner is announced on May 1st!
URL:https://jbleforcesupport.com/event/april-fools-day/2026-09-16/
LOCATION:Riverview Event Center\, 128 Benedict Ave
CATEGORIES:November
ATTACH;FMTTYPE=image/jpeg:https://jbleforcesupport.com/wp-content/uploads/2026/03/0401-0430-April-Fools-Day-Joke-Jar_web.jpg
END:VEVENT
BEGIN:VEVENT
DTSTART;TZID=UTC:20260917T080000
DTEND;TZID=UTC:20260917T170000
DTSTAMP:20260422T221930
CREATED:20260325T171723Z
LAST-MODIFIED:20260325T171736Z
UID:10008023-1789632000-1789664400@jbleforcesupport.com
SUMMARY:April Fools Day
DESCRIPTION:From April 1St to30th\, place your joke in the joke jar at the entryway of the Riverview Event Center\, for a chance to win a prize! \nTwo drawings every week starting April 27th\, and the winner is announced on May 1st!
URL:https://jbleforcesupport.com/event/april-fools-day/2026-09-17/
LOCATION:Riverview Event Center\, 128 Benedict Ave
CATEGORIES:November
ATTACH;FMTTYPE=image/jpeg:https://jbleforcesupport.com/wp-content/uploads/2026/03/0401-0430-April-Fools-Day-Joke-Jar_web.jpg
END:VEVENT
BEGIN:VEVENT
DTSTART;TZID=UTC:20260918T080000
DTEND;TZID=UTC:20260918T170000
DTSTAMP:20260422T221930
CREATED:20260325T171723Z
LAST-MODIFIED:20260325T171736Z
UID:10008024-1789718400-1789750800@jbleforcesupport.com
SUMMARY:April Fools Day
DESCRIPTION:From April 1St to30th\, place your joke in the joke jar at the entryway of the Riverview Event Center\, for a chance to win a prize! \nTwo drawings every week starting April 27th\, and the winner is announced on May 1st!
URL:https://jbleforcesupport.com/event/april-fools-day/2026-09-18/
LOCATION:Riverview Event Center\, 128 Benedict Ave
CATEGORIES:November
ATTACH;FMTTYPE=image/jpeg:https://jbleforcesupport.com/wp-content/uploads/2026/03/0401-0430-April-Fools-Day-Joke-Jar_web.jpg
END:VEVENT
BEGIN:VEVENT
DTSTART;TZID=UTC:20260919T080000
DTEND;TZID=UTC:20260919T170000
DTSTAMP:20260422T221930
CREATED:20260325T171723Z
LAST-MODIFIED:20260325T171736Z
UID:10008025-1789804800-1789837200@jbleforcesupport.com
SUMMARY:April Fools Day
DESCRIPTION:From April 1St to30th\, place your joke in the joke jar at the entryway of the Riverview Event Center\, for a chance to win a prize! \nTwo drawings every week starting April 27th\, and the winner is announced on May 1st!
URL:https://jbleforcesupport.com/event/april-fools-day/2026-09-19/
LOCATION:Riverview Event Center\, 128 Benedict Ave
CATEGORIES:November
ATTACH;FMTTYPE=image/jpeg:https://jbleforcesupport.com/wp-content/uploads/2026/03/0401-0430-April-Fools-Day-Joke-Jar_web.jpg
END:VEVENT
BEGIN:VEVENT
DTSTART;TZID=UTC:20260920T080000
DTEND;TZID=UTC:20260920T170000
DTSTAMP:20260422T221930
CREATED:20260325T171723Z
LAST-MODIFIED:20260325T171736Z
UID:10008026-1789891200-1789923600@jbleforcesupport.com
SUMMARY:April Fools Day
DESCRIPTION:From April 1St to30th\, place your joke in the joke jar at the entryway of the Riverview Event Center\, for a chance to win a prize! \nTwo drawings every week starting April 27th\, and the winner is announced on May 1st!
URL:https://jbleforcesupport.com/event/april-fools-day/2026-09-20/
LOCATION:Riverview Event Center\, 128 Benedict Ave
CATEGORIES:November
ATTACH;FMTTYPE=image/jpeg:https://jbleforcesupport.com/wp-content/uploads/2026/03/0401-0430-April-Fools-Day-Joke-Jar_web.jpg
END:VEVENT
BEGIN:VEVENT
DTSTART;TZID=UTC:20260921T080000
DTEND;TZID=UTC:20260921T170000
DTSTAMP:20260422T221930
CREATED:20260325T171723Z
LAST-MODIFIED:20260325T171736Z
UID:10008027-1789977600-1790010000@jbleforcesupport.com
SUMMARY:April Fools Day
DESCRIPTION:From April 1St to30th\, place your joke in the joke jar at the entryway of the Riverview Event Center\, for a chance to win a prize! \nTwo drawings every week starting April 27th\, and the winner is announced on May 1st!
URL:https://jbleforcesupport.com/event/april-fools-day/2026-09-21/
LOCATION:Riverview Event Center\, 128 Benedict Ave
CATEGORIES:November
ATTACH;FMTTYPE=image/jpeg:https://jbleforcesupport.com/wp-content/uploads/2026/03/0401-0430-April-Fools-Day-Joke-Jar_web.jpg
END:VEVENT
BEGIN:VEVENT
DTSTART;TZID=UTC:20260922T080000
DTEND;TZID=UTC:20260922T170000
DTSTAMP:20260422T221930
CREATED:20260325T171723Z
LAST-MODIFIED:20260325T171736Z
UID:10008028-1790064000-1790096400@jbleforcesupport.com
SUMMARY:April Fools Day
DESCRIPTION:From April 1St to30th\, place your joke in the joke jar at the entryway of the Riverview Event Center\, for a chance to win a prize! \nTwo drawings every week starting April 27th\, and the winner is announced on May 1st!
URL:https://jbleforcesupport.com/event/april-fools-day/2026-09-22/
LOCATION:Riverview Event Center\, 128 Benedict Ave
CATEGORIES:November
ATTACH;FMTTYPE=image/jpeg:https://jbleforcesupport.com/wp-content/uploads/2026/03/0401-0430-April-Fools-Day-Joke-Jar_web.jpg
END:VEVENT
BEGIN:VEVENT
DTSTART;TZID=UTC:20260923T080000
DTEND;TZID=UTC:20260923T170000
DTSTAMP:20260422T221930
CREATED:20260325T171723Z
LAST-MODIFIED:20260325T171736Z
UID:10008029-1790150400-1790182800@jbleforcesupport.com
SUMMARY:April Fools Day
DESCRIPTION:From April 1St to30th\, place your joke in the joke jar at the entryway of the Riverview Event Center\, for a chance to win a prize! \nTwo drawings every week starting April 27th\, and the winner is announced on May 1st!
URL:https://jbleforcesupport.com/event/april-fools-day/2026-09-23/
LOCATION:Riverview Event Center\, 128 Benedict Ave
CATEGORIES:November
ATTACH;FMTTYPE=image/jpeg:https://jbleforcesupport.com/wp-content/uploads/2026/03/0401-0430-April-Fools-Day-Joke-Jar_web.jpg
END:VEVENT
BEGIN:VEVENT
DTSTART;TZID=UTC:20260924T080000
DTEND;TZID=UTC:20260924T170000
DTSTAMP:20260422T221930
CREATED:20260325T171723Z
LAST-MODIFIED:20260325T171736Z
UID:10008030-1790236800-1790269200@jbleforcesupport.com
SUMMARY:April Fools Day
DESCRIPTION:From April 1St to30th\, place your joke in the joke jar at the entryway of the Riverview Event Center\, for a chance to win a prize! \nTwo drawings every week starting April 27th\, and the winner is announced on May 1st!
URL:https://jbleforcesupport.com/event/april-fools-day/2026-09-24/
LOCATION:Riverview Event Center\, 128 Benedict Ave
CATEGORIES:November
ATTACH;FMTTYPE=image/jpeg:https://jbleforcesupport.com/wp-content/uploads/2026/03/0401-0430-April-Fools-Day-Joke-Jar_web.jpg
END:VEVENT
BEGIN:VEVENT
DTSTART;TZID=UTC:20260925T080000
DTEND;TZID=UTC:20260925T170000
DTSTAMP:20260422T221930
CREATED:20260325T171723Z
LAST-MODIFIED:20260325T171736Z
UID:10008031-1790323200-1790355600@jbleforcesupport.com
SUMMARY:April Fools Day
DESCRIPTION:From April 1St to30th\, place your joke in the joke jar at the entryway of the Riverview Event Center\, for a chance to win a prize! \nTwo drawings every week starting April 27th\, and the winner is announced on May 1st!
URL:https://jbleforcesupport.com/event/april-fools-day/2026-09-25/
LOCATION:Riverview Event Center\, 128 Benedict Ave
CATEGORIES:November
ATTACH;FMTTYPE=image/jpeg:https://jbleforcesupport.com/wp-content/uploads/2026/03/0401-0430-April-Fools-Day-Joke-Jar_web.jpg
END:VEVENT
BEGIN:VEVENT
DTSTART;TZID=UTC:20260926T080000
DTEND;TZID=UTC:20260926T170000
DTSTAMP:20260422T221930
CREATED:20260325T171723Z
LAST-MODIFIED:20260325T171736Z
UID:10008032-1790409600-1790442000@jbleforcesupport.com
SUMMARY:April Fools Day
DESCRIPTION:From April 1St to30th\, place your joke in the joke jar at the entryway of the Riverview Event Center\, for a chance to win a prize! \nTwo drawings every week starting April 27th\, and the winner is announced on May 1st!
URL:https://jbleforcesupport.com/event/april-fools-day/2026-09-26/
LOCATION:Riverview Event Center\, 128 Benedict Ave
CATEGORIES:November
ATTACH;FMTTYPE=image/jpeg:https://jbleforcesupport.com/wp-content/uploads/2026/03/0401-0430-April-Fools-Day-Joke-Jar_web.jpg
END:VEVENT
BEGIN:VEVENT
DTSTART;TZID=UTC:20260927T080000
DTEND;TZID=UTC:20260927T170000
DTSTAMP:20260422T221930
CREATED:20260325T171723Z
LAST-MODIFIED:20260325T171736Z
UID:10008033-1790496000-1790528400@jbleforcesupport.com
SUMMARY:April Fools Day
DESCRIPTION:From April 1St to30th\, place your joke in the joke jar at the entryway of the Riverview Event Center\, for a chance to win a prize! \nTwo drawings every week starting April 27th\, and the winner is announced on May 1st!
URL:https://jbleforcesupport.com/event/april-fools-day/2026-09-27/
LOCATION:Riverview Event Center\, 128 Benedict Ave
CATEGORIES:November
ATTACH;FMTTYPE=image/jpeg:https://jbleforcesupport.com/wp-content/uploads/2026/03/0401-0430-April-Fools-Day-Joke-Jar_web.jpg
END:VEVENT
BEGIN:VEVENT
DTSTART;TZID=UTC:20260928T080000
DTEND;TZID=UTC:20260928T170000
DTSTAMP:20260422T221930
CREATED:20260325T171723Z
LAST-MODIFIED:20260325T171736Z
UID:10008034-1790582400-1790614800@jbleforcesupport.com
SUMMARY:April Fools Day
DESCRIPTION:From April 1St to30th\, place your joke in the joke jar at the entryway of the Riverview Event Center\, for a chance to win a prize! \nTwo drawings every week starting April 27th\, and the winner is announced on May 1st!
URL:https://jbleforcesupport.com/event/april-fools-day/2026-09-28/
LOCATION:Riverview Event Center\, 128 Benedict Ave
CATEGORIES:November
ATTACH;FMTTYPE=image/jpeg:https://jbleforcesupport.com/wp-content/uploads/2026/03/0401-0430-April-Fools-Day-Joke-Jar_web.jpg
END:VEVENT
BEGIN:VEVENT
DTSTART;TZID=UTC:20260929T080000
DTEND;TZID=UTC:20260929T170000
DTSTAMP:20260422T221930
CREATED:20260325T171723Z
LAST-MODIFIED:20260325T171736Z
UID:10008035-1790668800-1790701200@jbleforcesupport.com
SUMMARY:April Fools Day
DESCRIPTION:From April 1St to30th\, place your joke in the joke jar at the entryway of the Riverview Event Center\, for a chance to win a prize! \nTwo drawings every week starting April 27th\, and the winner is announced on May 1st!
URL:https://jbleforcesupport.com/event/april-fools-day/2026-09-29/
LOCATION:Riverview Event Center\, 128 Benedict Ave
CATEGORIES:November
ATTACH;FMTTYPE=image/jpeg:https://jbleforcesupport.com/wp-content/uploads/2026/03/0401-0430-April-Fools-Day-Joke-Jar_web.jpg
END:VEVENT
BEGIN:VEVENT
DTSTART;TZID=UTC:20260930T080000
DTEND;TZID=UTC:20260930T170000
DTSTAMP:20260422T221930
CREATED:20260325T171723Z
LAST-MODIFIED:20260325T171736Z
UID:10008036-1790755200-1790787600@jbleforcesupport.com
SUMMARY:April Fools Day
DESCRIPTION:From April 1St to30th\, place your joke in the joke jar at the entryway of the Riverview Event Center\, for a chance to win a prize! \nTwo drawings every week starting April 27th\, and the winner is announced on May 1st!
URL:https://jbleforcesupport.com/event/april-fools-day/2026-09-30/
LOCATION:Riverview Event Center\, 128 Benedict Ave
CATEGORIES:November
ATTACH;FMTTYPE=image/jpeg:https://jbleforcesupport.com/wp-content/uploads/2026/03/0401-0430-April-Fools-Day-Joke-Jar_web.jpg
END:VEVENT
BEGIN:VEVENT
DTSTART;TZID=UTC:20261001T080000
DTEND;TZID=UTC:20261001T170000
DTSTAMP:20260422T221930
CREATED:20260325T171723Z
LAST-MODIFIED:20260325T171736Z
UID:10008037-1790841600-1790874000@jbleforcesupport.com
SUMMARY:April Fools Day
DESCRIPTION:From April 1St to30th\, place your joke in the joke jar at the entryway of the Riverview Event Center\, for a chance to win a prize! \nTwo drawings every week starting April 27th\, and the winner is announced on May 1st!
URL:https://jbleforcesupport.com/event/april-fools-day/2026-10-01/
LOCATION:Riverview Event Center\, 128 Benedict Ave
CATEGORIES:November
ATTACH;FMTTYPE=image/jpeg:https://jbleforcesupport.com/wp-content/uploads/2026/03/0401-0430-April-Fools-Day-Joke-Jar_web.jpg
END:VEVENT
BEGIN:VEVENT
DTSTART;TZID=UTC:20261002T080000
DTEND;TZID=UTC:20261002T170000
DTSTAMP:20260422T221930
CREATED:20260325T171723Z
LAST-MODIFIED:20260325T171736Z
UID:10008038-1790928000-1790960400@jbleforcesupport.com
SUMMARY:April Fools Day
DESCRIPTION:From April 1St to30th\, place your joke in the joke jar at the entryway of the Riverview Event Center\, for a chance to win a prize! \nTwo drawings every week starting April 27th\, and the winner is announced on May 1st!
URL:https://jbleforcesupport.com/event/april-fools-day/2026-10-02/
LOCATION:Riverview Event Center\, 128 Benedict Ave
CATEGORIES:November
ATTACH;FMTTYPE=image/jpeg:https://jbleforcesupport.com/wp-content/uploads/2026/03/0401-0430-April-Fools-Day-Joke-Jar_web.jpg
END:VEVENT
BEGIN:VEVENT
DTSTART;TZID=UTC:20261003T080000
DTEND;TZID=UTC:20261003T170000
DTSTAMP:20260422T221930
CREATED:20260325T171723Z
LAST-MODIFIED:20260325T171736Z
UID:10008039-1791014400-1791046800@jbleforcesupport.com
SUMMARY:April Fools Day
DESCRIPTION:From April 1St to30th\, place your joke in the joke jar at the entryway of the Riverview Event Center\, for a chance to win a prize! \nTwo drawings every week starting April 27th\, and the winner is announced on May 1st!
URL:https://jbleforcesupport.com/event/april-fools-day/2026-10-03/
LOCATION:Riverview Event Center\, 128 Benedict Ave
CATEGORIES:November
ATTACH;FMTTYPE=image/jpeg:https://jbleforcesupport.com/wp-content/uploads/2026/03/0401-0430-April-Fools-Day-Joke-Jar_web.jpg
END:VEVENT
BEGIN:VEVENT
DTSTART;TZID=UTC:20261004T080000
DTEND;TZID=UTC:20261004T170000
DTSTAMP:20260422T221930
CREATED:20260325T171723Z
LAST-MODIFIED:20260325T171736Z
UID:10008040-1791100800-1791133200@jbleforcesupport.com
SUMMARY:April Fools Day
DESCRIPTION:From April 1St to30th\, place your joke in the joke jar at the entryway of the Riverview Event Center\, for a chance to win a prize! \nTwo drawings every week starting April 27th\, and the winner is announced on May 1st!
URL:https://jbleforcesupport.com/event/april-fools-day/2026-10-04/
LOCATION:Riverview Event Center\, 128 Benedict Ave
CATEGORIES:November
ATTACH;FMTTYPE=image/jpeg:https://jbleforcesupport.com/wp-content/uploads/2026/03/0401-0430-April-Fools-Day-Joke-Jar_web.jpg
END:VEVENT
BEGIN:VEVENT
DTSTART;TZID=UTC:20261005T080000
DTEND;TZID=UTC:20261005T170000
DTSTAMP:20260422T221930
CREATED:20260325T171723Z
LAST-MODIFIED:20260325T171736Z
UID:10008041-1791187200-1791219600@jbleforcesupport.com
SUMMARY:April Fools Day
DESCRIPTION:From April 1St to30th\, place your joke in the joke jar at the entryway of the Riverview Event Center\, for a chance to win a prize! \nTwo drawings every week starting April 27th\, and the winner is announced on May 1st!
URL:https://jbleforcesupport.com/event/april-fools-day/2026-10-05/
LOCATION:Riverview Event Center\, 128 Benedict Ave
CATEGORIES:November
ATTACH;FMTTYPE=image/jpeg:https://jbleforcesupport.com/wp-content/uploads/2026/03/0401-0430-April-Fools-Day-Joke-Jar_web.jpg
END:VEVENT
BEGIN:VEVENT
DTSTART;TZID=UTC:20261006T080000
DTEND;TZID=UTC:20261006T170000
DTSTAMP:20260422T221930
CREATED:20260325T171723Z
LAST-MODIFIED:20260325T171736Z
UID:10008042-1791273600-1791306000@jbleforcesupport.com
SUMMARY:April Fools Day
DESCRIPTION:From April 1St to30th\, place your joke in the joke jar at the entryway of the Riverview Event Center\, for a chance to win a prize! \nTwo drawings every week starting April 27th\, and the winner is announced on May 1st!
URL:https://jbleforcesupport.com/event/april-fools-day/2026-10-06/
LOCATION:Riverview Event Center\, 128 Benedict Ave
CATEGORIES:November
ATTACH;FMTTYPE=image/jpeg:https://jbleforcesupport.com/wp-content/uploads/2026/03/0401-0430-April-Fools-Day-Joke-Jar_web.jpg
END:VEVENT
BEGIN:VEVENT
DTSTART;TZID=UTC:20261007T080000
DTEND;TZID=UTC:20261007T170000
DTSTAMP:20260422T221930
CREATED:20260325T171723Z
LAST-MODIFIED:20260325T171736Z
UID:10008043-1791360000-1791392400@jbleforcesupport.com
SUMMARY:April Fools Day
DESCRIPTION:From April 1St to30th\, place your joke in the joke jar at the entryway of the Riverview Event Center\, for a chance to win a prize! \nTwo drawings every week starting April 27th\, and the winner is announced on May 1st!
URL:https://jbleforcesupport.com/event/april-fools-day/2026-10-07/
LOCATION:Riverview Event Center\, 128 Benedict Ave
CATEGORIES:November
ATTACH;FMTTYPE=image/jpeg:https://jbleforcesupport.com/wp-content/uploads/2026/03/0401-0430-April-Fools-Day-Joke-Jar_web.jpg
END:VEVENT
BEGIN:VEVENT
DTSTART;TZID=UTC:20261008T080000
DTEND;TZID=UTC:20261008T170000
DTSTAMP:20260422T221930
CREATED:20260325T171723Z
LAST-MODIFIED:20260325T171736Z
UID:10008044-1791446400-1791478800@jbleforcesupport.com
SUMMARY:April Fools Day
DESCRIPTION:From April 1St to30th\, place your joke in the joke jar at the entryway of the Riverview Event Center\, for a chance to win a prize! \nTwo drawings every week starting April 27th\, and the winner is announced on May 1st!
URL:https://jbleforcesupport.com/event/april-fools-day/2026-10-08/
LOCATION:Riverview Event Center\, 128 Benedict Ave
CATEGORIES:November
ATTACH;FMTTYPE=image/jpeg:https://jbleforcesupport.com/wp-content/uploads/2026/03/0401-0430-April-Fools-Day-Joke-Jar_web.jpg
END:VEVENT
BEGIN:VEVENT
DTSTART;TZID=UTC:20261009T080000
DTEND;TZID=UTC:20261009T170000
DTSTAMP:20260422T221930
CREATED:20260325T171723Z
LAST-MODIFIED:20260325T171736Z
UID:10008045-1791532800-1791565200@jbleforcesupport.com
SUMMARY:April Fools Day
DESCRIPTION:From April 1St to30th\, place your joke in the joke jar at the entryway of the Riverview Event Center\, for a chance to win a prize! \nTwo drawings every week starting April 27th\, and the winner is announced on May 1st!
URL:https://jbleforcesupport.com/event/april-fools-day/2026-10-09/
LOCATION:Riverview Event Center\, 128 Benedict Ave
CATEGORIES:November
ATTACH;FMTTYPE=image/jpeg:https://jbleforcesupport.com/wp-content/uploads/2026/03/0401-0430-April-Fools-Day-Joke-Jar_web.jpg
END:VEVENT
BEGIN:VEVENT
DTSTART;TZID=UTC:20261010T080000
DTEND;TZID=UTC:20261010T170000
DTSTAMP:20260422T221930
CREATED:20260325T171723Z
LAST-MODIFIED:20260325T171736Z
UID:10008046-1791619200-1791651600@jbleforcesupport.com
SUMMARY:April Fools Day
DESCRIPTION:From April 1St to30th\, place your joke in the joke jar at the entryway of the Riverview Event Center\, for a chance to win a prize! \nTwo drawings every week starting April 27th\, and the winner is announced on May 1st!
URL:https://jbleforcesupport.com/event/april-fools-day/2026-10-10/
LOCATION:Riverview Event Center\, 128 Benedict Ave
CATEGORIES:November
ATTACH;FMTTYPE=image/jpeg:https://jbleforcesupport.com/wp-content/uploads/2026/03/0401-0430-April-Fools-Day-Joke-Jar_web.jpg
END:VEVENT
BEGIN:VEVENT
DTSTART;TZID=UTC:20261011T080000
DTEND;TZID=UTC:20261011T170000
DTSTAMP:20260422T221930
CREATED:20260325T171723Z
LAST-MODIFIED:20260325T171736Z
UID:10008047-1791705600-1791738000@jbleforcesupport.com
SUMMARY:April Fools Day
DESCRIPTION:From April 1St to30th\, place your joke in the joke jar at the entryway of the Riverview Event Center\, for a chance to win a prize! \nTwo drawings every week starting April 27th\, and the winner is announced on May 1st!
URL:https://jbleforcesupport.com/event/april-fools-day/2026-10-11/
LOCATION:Riverview Event Center\, 128 Benedict Ave
CATEGORIES:November
ATTACH;FMTTYPE=image/jpeg:https://jbleforcesupport.com/wp-content/uploads/2026/03/0401-0430-April-Fools-Day-Joke-Jar_web.jpg
END:VEVENT
BEGIN:VEVENT
DTSTART;TZID=UTC:20261012T080000
DTEND;TZID=UTC:20261012T170000
DTSTAMP:20260422T221930
CREATED:20260325T171723Z
LAST-MODIFIED:20260325T171736Z
UID:10008048-1791792000-1791824400@jbleforcesupport.com
SUMMARY:April Fools Day
DESCRIPTION:From April 1St to30th\, place your joke in the joke jar at the entryway of the Riverview Event Center\, for a chance to win a prize! \nTwo drawings every week starting April 27th\, and the winner is announced on May 1st!
URL:https://jbleforcesupport.com/event/april-fools-day/2026-10-12/
LOCATION:Riverview Event Center\, 128 Benedict Ave
CATEGORIES:November
ATTACH;FMTTYPE=image/jpeg:https://jbleforcesupport.com/wp-content/uploads/2026/03/0401-0430-April-Fools-Day-Joke-Jar_web.jpg
END:VEVENT
BEGIN:VEVENT
DTSTART;TZID=UTC:20261013T080000
DTEND;TZID=UTC:20261013T170000
DTSTAMP:20260422T221930
CREATED:20260325T171723Z
LAST-MODIFIED:20260325T171736Z
UID:10008049-1791878400-1791910800@jbleforcesupport.com
SUMMARY:April Fools Day
DESCRIPTION:From April 1St to30th\, place your joke in the joke jar at the entryway of the Riverview Event Center\, for a chance to win a prize! \nTwo drawings every week starting April 27th\, and the winner is announced on May 1st!
URL:https://jbleforcesupport.com/event/april-fools-day/2026-10-13/
LOCATION:Riverview Event Center\, 128 Benedict Ave
CATEGORIES:November
ATTACH;FMTTYPE=image/jpeg:https://jbleforcesupport.com/wp-content/uploads/2026/03/0401-0430-April-Fools-Day-Joke-Jar_web.jpg
END:VEVENT
BEGIN:VEVENT
DTSTART;TZID=UTC:20261014T080000
DTEND;TZID=UTC:20261014T170000
DTSTAMP:20260422T221930
CREATED:20260325T171723Z
LAST-MODIFIED:20260325T171736Z
UID:10008050-1791964800-1791997200@jbleforcesupport.com
SUMMARY:April Fools Day
DESCRIPTION:From April 1St to30th\, place your joke in the joke jar at the entryway of the Riverview Event Center\, for a chance to win a prize! \nTwo drawings every week starting April 27th\, and the winner is announced on May 1st!
URL:https://jbleforcesupport.com/event/april-fools-day/2026-10-14/
LOCATION:Riverview Event Center\, 128 Benedict Ave
CATEGORIES:November
ATTACH;FMTTYPE=image/jpeg:https://jbleforcesupport.com/wp-content/uploads/2026/03/0401-0430-April-Fools-Day-Joke-Jar_web.jpg
END:VEVENT
END:VCALENDAR