BEGIN:VCALENDAR
VERSION:2.0
PRODID:-//Langley Air Force Base - ECPv6.15.20//NONSGML v1.0//EN
CALSCALE:GREGORIAN
METHOD:PUBLISH
X-ORIGINAL-URL:https://jbleforcesupport.com
X-WR-CALDESC:Events for Langley Air Force Base
REFRESH-INTERVAL;VALUE=DURATION:PT1H
X-Robots-Tag:noindex
X-PUBLISHED-TTL:PT1H
BEGIN:VTIMEZONE
TZID:UTC
BEGIN:STANDARD
TZOFFSETFROM:+0000
TZOFFSETTO:+0000
TZNAME:UTC
DTSTART:20250101T000000
END:STANDARD
END:VTIMEZONE
BEGIN:VEVENT
DTSTART;TZID=UTC:20261114T080000
DTEND;TZID=UTC:20261114T170000
DTSTAMP:20260423T031047
CREATED:20260325T171723Z
LAST-MODIFIED:20260325T171736Z
UID:10008081-1794643200-1794675600@jbleforcesupport.com
SUMMARY:April Fools Day
DESCRIPTION:From April 1St to30th\, place your joke in the joke jar at the entryway of the Riverview Event Center\, for a chance to win a prize! \nTwo drawings every week starting April 27th\, and the winner is announced on May 1st!
URL:https://jbleforcesupport.com/event/april-fools-day/2026-11-14/
LOCATION:Riverview Event Center\, 128 Benedict Ave
CATEGORIES:November
ATTACH;FMTTYPE=image/jpeg:https://jbleforcesupport.com/wp-content/uploads/2026/03/0401-0430-April-Fools-Day-Joke-Jar_web.jpg
END:VEVENT
BEGIN:VEVENT
DTSTART;TZID=UTC:20261115T080000
DTEND;TZID=UTC:20261115T170000
DTSTAMP:20260423T031047
CREATED:20260325T171723Z
LAST-MODIFIED:20260325T171736Z
UID:10008082-1794729600-1794762000@jbleforcesupport.com
SUMMARY:April Fools Day
DESCRIPTION:From April 1St to30th\, place your joke in the joke jar at the entryway of the Riverview Event Center\, for a chance to win a prize! \nTwo drawings every week starting April 27th\, and the winner is announced on May 1st!
URL:https://jbleforcesupport.com/event/april-fools-day/2026-11-15/
LOCATION:Riverview Event Center\, 128 Benedict Ave
CATEGORIES:November
ATTACH;FMTTYPE=image/jpeg:https://jbleforcesupport.com/wp-content/uploads/2026/03/0401-0430-April-Fools-Day-Joke-Jar_web.jpg
END:VEVENT
BEGIN:VEVENT
DTSTART;TZID=UTC:20261116T080000
DTEND;TZID=UTC:20261116T170000
DTSTAMP:20260423T031047
CREATED:20260325T171723Z
LAST-MODIFIED:20260325T171736Z
UID:10008083-1794816000-1794848400@jbleforcesupport.com
SUMMARY:April Fools Day
DESCRIPTION:From April 1St to30th\, place your joke in the joke jar at the entryway of the Riverview Event Center\, for a chance to win a prize! \nTwo drawings every week starting April 27th\, and the winner is announced on May 1st!
URL:https://jbleforcesupport.com/event/april-fools-day/2026-11-16/
LOCATION:Riverview Event Center\, 128 Benedict Ave
CATEGORIES:November
ATTACH;FMTTYPE=image/jpeg:https://jbleforcesupport.com/wp-content/uploads/2026/03/0401-0430-April-Fools-Day-Joke-Jar_web.jpg
END:VEVENT
BEGIN:VEVENT
DTSTART;TZID=UTC:20261117T080000
DTEND;TZID=UTC:20261117T170000
DTSTAMP:20260423T031047
CREATED:20260325T171723Z
LAST-MODIFIED:20260325T171736Z
UID:10008084-1794902400-1794934800@jbleforcesupport.com
SUMMARY:April Fools Day
DESCRIPTION:From April 1St to30th\, place your joke in the joke jar at the entryway of the Riverview Event Center\, for a chance to win a prize! \nTwo drawings every week starting April 27th\, and the winner is announced on May 1st!
URL:https://jbleforcesupport.com/event/april-fools-day/2026-11-17/
LOCATION:Riverview Event Center\, 128 Benedict Ave
CATEGORIES:November
ATTACH;FMTTYPE=image/jpeg:https://jbleforcesupport.com/wp-content/uploads/2026/03/0401-0430-April-Fools-Day-Joke-Jar_web.jpg
END:VEVENT
BEGIN:VEVENT
DTSTART;TZID=UTC:20261118T080000
DTEND;TZID=UTC:20261118T170000
DTSTAMP:20260423T031047
CREATED:20260325T171723Z
LAST-MODIFIED:20260325T171736Z
UID:10008085-1794988800-1795021200@jbleforcesupport.com
SUMMARY:April Fools Day
DESCRIPTION:From April 1St to30th\, place your joke in the joke jar at the entryway of the Riverview Event Center\, for a chance to win a prize! \nTwo drawings every week starting April 27th\, and the winner is announced on May 1st!
URL:https://jbleforcesupport.com/event/april-fools-day/2026-11-18/
LOCATION:Riverview Event Center\, 128 Benedict Ave
CATEGORIES:November
ATTACH;FMTTYPE=image/jpeg:https://jbleforcesupport.com/wp-content/uploads/2026/03/0401-0430-April-Fools-Day-Joke-Jar_web.jpg
END:VEVENT
BEGIN:VEVENT
DTSTART;TZID=UTC:20261119T080000
DTEND;TZID=UTC:20261119T170000
DTSTAMP:20260423T031047
CREATED:20260325T171723Z
LAST-MODIFIED:20260325T171736Z
UID:10008086-1795075200-1795107600@jbleforcesupport.com
SUMMARY:April Fools Day
DESCRIPTION:From April 1St to30th\, place your joke in the joke jar at the entryway of the Riverview Event Center\, for a chance to win a prize! \nTwo drawings every week starting April 27th\, and the winner is announced on May 1st!
URL:https://jbleforcesupport.com/event/april-fools-day/2026-11-19/
LOCATION:Riverview Event Center\, 128 Benedict Ave
CATEGORIES:November
ATTACH;FMTTYPE=image/jpeg:https://jbleforcesupport.com/wp-content/uploads/2026/03/0401-0430-April-Fools-Day-Joke-Jar_web.jpg
END:VEVENT
BEGIN:VEVENT
DTSTART;TZID=UTC:20261119T100000
DTEND;TZID=UTC:20261119T160000
DTSTAMP:20260423T031047
CREATED:20260126T194729Z
LAST-MODIFIED:20260126T194729Z
UID:10007671-1795082400-1795104000@jbleforcesupport.com
SUMMARY:DMV Connect
DESCRIPTION:DMV Connect offers:\n-Real ID\n-Driver’s Licenses\n-ID Cards for adults and children\n-Disabled parking placards\n-Vehicle Titles\n-Virginia Vital Records\n-Address changes\n-Vehicle registrations\n-E-ZPass transponders\n-Compliance summaries\n-Transcripts\n-Hunting and Fishing Licences \nLocation: Jamestown Room at Riverview Event Center\nLunch hours: 12:30-1:30 PM.
URL:https://jbleforcesupport.com/event/dmv-connect/2026-11-19/
CATEGORIES:November
ATTACH;FMTTYPE=image/jpeg:https://jbleforcesupport.com/wp-content/uploads/2026/01/0806-DMV-Connect_Web.jpg
END:VEVENT
BEGIN:VEVENT
DTSTART;TZID=UTC:20261120T080000
DTEND;TZID=UTC:20261120T170000
DTSTAMP:20260423T031047
CREATED:20260325T171723Z
LAST-MODIFIED:20260325T171736Z
UID:10008087-1795161600-1795194000@jbleforcesupport.com
SUMMARY:April Fools Day
DESCRIPTION:From April 1St to30th\, place your joke in the joke jar at the entryway of the Riverview Event Center\, for a chance to win a prize! \nTwo drawings every week starting April 27th\, and the winner is announced on May 1st!
URL:https://jbleforcesupport.com/event/april-fools-day/2026-11-20/
LOCATION:Riverview Event Center\, 128 Benedict Ave
CATEGORIES:November
ATTACH;FMTTYPE=image/jpeg:https://jbleforcesupport.com/wp-content/uploads/2026/03/0401-0430-April-Fools-Day-Joke-Jar_web.jpg
END:VEVENT
BEGIN:VEVENT
DTSTART;TZID=UTC:20261121T080000
DTEND;TZID=UTC:20261121T170000
DTSTAMP:20260423T031047
CREATED:20260325T171723Z
LAST-MODIFIED:20260325T171736Z
UID:10008088-1795248000-1795280400@jbleforcesupport.com
SUMMARY:April Fools Day
DESCRIPTION:From April 1St to30th\, place your joke in the joke jar at the entryway of the Riverview Event Center\, for a chance to win a prize! \nTwo drawings every week starting April 27th\, and the winner is announced on May 1st!
URL:https://jbleforcesupport.com/event/april-fools-day/2026-11-21/
LOCATION:Riverview Event Center\, 128 Benedict Ave
CATEGORIES:November
ATTACH;FMTTYPE=image/jpeg:https://jbleforcesupport.com/wp-content/uploads/2026/03/0401-0430-April-Fools-Day-Joke-Jar_web.jpg
END:VEVENT
BEGIN:VEVENT
DTSTART;TZID=UTC:20261122T080000
DTEND;TZID=UTC:20261122T170000
DTSTAMP:20260423T031047
CREATED:20260325T171723Z
LAST-MODIFIED:20260325T171736Z
UID:10008089-1795334400-1795366800@jbleforcesupport.com
SUMMARY:April Fools Day
DESCRIPTION:From April 1St to30th\, place your joke in the joke jar at the entryway of the Riverview Event Center\, for a chance to win a prize! \nTwo drawings every week starting April 27th\, and the winner is announced on May 1st!
URL:https://jbleforcesupport.com/event/april-fools-day/2026-11-22/
LOCATION:Riverview Event Center\, 128 Benedict Ave
CATEGORIES:November
ATTACH;FMTTYPE=image/jpeg:https://jbleforcesupport.com/wp-content/uploads/2026/03/0401-0430-April-Fools-Day-Joke-Jar_web.jpg
END:VEVENT
BEGIN:VEVENT
DTSTART;TZID=UTC:20261123T080000
DTEND;TZID=UTC:20261123T170000
DTSTAMP:20260423T031047
CREATED:20260325T171723Z
LAST-MODIFIED:20260325T171736Z
UID:10008090-1795420800-1795453200@jbleforcesupport.com
SUMMARY:April Fools Day
DESCRIPTION:From April 1St to30th\, place your joke in the joke jar at the entryway of the Riverview Event Center\, for a chance to win a prize! \nTwo drawings every week starting April 27th\, and the winner is announced on May 1st!
URL:https://jbleforcesupport.com/event/april-fools-day/2026-11-23/
LOCATION:Riverview Event Center\, 128 Benedict Ave
CATEGORIES:November
ATTACH;FMTTYPE=image/jpeg:https://jbleforcesupport.com/wp-content/uploads/2026/03/0401-0430-April-Fools-Day-Joke-Jar_web.jpg
END:VEVENT
BEGIN:VEVENT
DTSTART;TZID=UTC:20261124T080000
DTEND;TZID=UTC:20261124T170000
DTSTAMP:20260423T031047
CREATED:20260325T171723Z
LAST-MODIFIED:20260325T171736Z
UID:10008091-1795507200-1795539600@jbleforcesupport.com
SUMMARY:April Fools Day
DESCRIPTION:From April 1St to30th\, place your joke in the joke jar at the entryway of the Riverview Event Center\, for a chance to win a prize! \nTwo drawings every week starting April 27th\, and the winner is announced on May 1st!
URL:https://jbleforcesupport.com/event/april-fools-day/2026-11-24/
LOCATION:Riverview Event Center\, 128 Benedict Ave
CATEGORIES:November
ATTACH;FMTTYPE=image/jpeg:https://jbleforcesupport.com/wp-content/uploads/2026/03/0401-0430-April-Fools-Day-Joke-Jar_web.jpg
END:VEVENT
BEGIN:VEVENT
DTSTART;TZID=UTC:20261125T080000
DTEND;TZID=UTC:20261125T170000
DTSTAMP:20260423T031047
CREATED:20260325T171723Z
LAST-MODIFIED:20260325T171736Z
UID:10008092-1795593600-1795626000@jbleforcesupport.com
SUMMARY:April Fools Day
DESCRIPTION:From April 1St to30th\, place your joke in the joke jar at the entryway of the Riverview Event Center\, for a chance to win a prize! \nTwo drawings every week starting April 27th\, and the winner is announced on May 1st!
URL:https://jbleforcesupport.com/event/april-fools-day/2026-11-25/
LOCATION:Riverview Event Center\, 128 Benedict Ave
CATEGORIES:November
ATTACH;FMTTYPE=image/jpeg:https://jbleforcesupport.com/wp-content/uploads/2026/03/0401-0430-April-Fools-Day-Joke-Jar_web.jpg
END:VEVENT
BEGIN:VEVENT
DTSTART;TZID=UTC:20261126T080000
DTEND;TZID=UTC:20261126T170000
DTSTAMP:20260423T031047
CREATED:20260325T171723Z
LAST-MODIFIED:20260325T171736Z
UID:10008093-1795680000-1795712400@jbleforcesupport.com
SUMMARY:April Fools Day
DESCRIPTION:From April 1St to30th\, place your joke in the joke jar at the entryway of the Riverview Event Center\, for a chance to win a prize! \nTwo drawings every week starting April 27th\, and the winner is announced on May 1st!
URL:https://jbleforcesupport.com/event/april-fools-day/2026-11-26/
LOCATION:Riverview Event Center\, 128 Benedict Ave
CATEGORIES:November
ATTACH;FMTTYPE=image/jpeg:https://jbleforcesupport.com/wp-content/uploads/2026/03/0401-0430-April-Fools-Day-Joke-Jar_web.jpg
END:VEVENT
BEGIN:VEVENT
DTSTART;TZID=UTC:20261127T080000
DTEND;TZID=UTC:20261127T170000
DTSTAMP:20260423T031047
CREATED:20260325T171723Z
LAST-MODIFIED:20260325T171736Z
UID:10008094-1795766400-1795798800@jbleforcesupport.com
SUMMARY:April Fools Day
DESCRIPTION:From April 1St to30th\, place your joke in the joke jar at the entryway of the Riverview Event Center\, for a chance to win a prize! \nTwo drawings every week starting April 27th\, and the winner is announced on May 1st!
URL:https://jbleforcesupport.com/event/april-fools-day/2026-11-27/
LOCATION:Riverview Event Center\, 128 Benedict Ave
CATEGORIES:November
ATTACH;FMTTYPE=image/jpeg:https://jbleforcesupport.com/wp-content/uploads/2026/03/0401-0430-April-Fools-Day-Joke-Jar_web.jpg
END:VEVENT
BEGIN:VEVENT
DTSTART;TZID=UTC:20261128T080000
DTEND;TZID=UTC:20261128T170000
DTSTAMP:20260423T031047
CREATED:20260325T171723Z
LAST-MODIFIED:20260325T171736Z
UID:10008095-1795852800-1795885200@jbleforcesupport.com
SUMMARY:April Fools Day
DESCRIPTION:From April 1St to30th\, place your joke in the joke jar at the entryway of the Riverview Event Center\, for a chance to win a prize! \nTwo drawings every week starting April 27th\, and the winner is announced on May 1st!
URL:https://jbleforcesupport.com/event/april-fools-day/2026-11-28/
LOCATION:Riverview Event Center\, 128 Benedict Ave
CATEGORIES:November
ATTACH;FMTTYPE=image/jpeg:https://jbleforcesupport.com/wp-content/uploads/2026/03/0401-0430-April-Fools-Day-Joke-Jar_web.jpg
END:VEVENT
BEGIN:VEVENT
DTSTART;TZID=UTC:20261129T080000
DTEND;TZID=UTC:20261129T170000
DTSTAMP:20260423T031047
CREATED:20260325T171723Z
LAST-MODIFIED:20260325T171736Z
UID:10008096-1795939200-1795971600@jbleforcesupport.com
SUMMARY:April Fools Day
DESCRIPTION:From April 1St to30th\, place your joke in the joke jar at the entryway of the Riverview Event Center\, for a chance to win a prize! \nTwo drawings every week starting April 27th\, and the winner is announced on May 1st!
URL:https://jbleforcesupport.com/event/april-fools-day/2026-11-29/
LOCATION:Riverview Event Center\, 128 Benedict Ave
CATEGORIES:November
ATTACH;FMTTYPE=image/jpeg:https://jbleforcesupport.com/wp-content/uploads/2026/03/0401-0430-April-Fools-Day-Joke-Jar_web.jpg
END:VEVENT
BEGIN:VEVENT
DTSTART;TZID=UTC:20261130T080000
DTEND;TZID=UTC:20261130T170000
DTSTAMP:20260423T031047
CREATED:20260325T171723Z
LAST-MODIFIED:20260325T171736Z
UID:10008097-1796025600-1796058000@jbleforcesupport.com
SUMMARY:April Fools Day
DESCRIPTION:From April 1St to30th\, place your joke in the joke jar at the entryway of the Riverview Event Center\, for a chance to win a prize! \nTwo drawings every week starting April 27th\, and the winner is announced on May 1st!
URL:https://jbleforcesupport.com/event/april-fools-day/2026-11-30/
LOCATION:Riverview Event Center\, 128 Benedict Ave
CATEGORIES:November
ATTACH;FMTTYPE=image/jpeg:https://jbleforcesupport.com/wp-content/uploads/2026/03/0401-0430-April-Fools-Day-Joke-Jar_web.jpg
END:VEVENT
BEGIN:VEVENT
DTSTART;TZID=UTC:20261201T080000
DTEND;TZID=UTC:20261201T170000
DTSTAMP:20260423T031047
CREATED:20260325T171723Z
LAST-MODIFIED:20260325T171736Z
UID:10008098-1796112000-1796144400@jbleforcesupport.com
SUMMARY:April Fools Day
DESCRIPTION:From April 1St to30th\, place your joke in the joke jar at the entryway of the Riverview Event Center\, for a chance to win a prize! \nTwo drawings every week starting April 27th\, and the winner is announced on May 1st!
URL:https://jbleforcesupport.com/event/april-fools-day/2026-12-01/
LOCATION:Riverview Event Center\, 128 Benedict Ave
CATEGORIES:November
ATTACH;FMTTYPE=image/jpeg:https://jbleforcesupport.com/wp-content/uploads/2026/03/0401-0430-April-Fools-Day-Joke-Jar_web.jpg
END:VEVENT
BEGIN:VEVENT
DTSTART;TZID=UTC:20261202T080000
DTEND;TZID=UTC:20261202T170000
DTSTAMP:20260423T031047
CREATED:20260325T171723Z
LAST-MODIFIED:20260325T171736Z
UID:10008099-1796198400-1796230800@jbleforcesupport.com
SUMMARY:April Fools Day
DESCRIPTION:From April 1St to30th\, place your joke in the joke jar at the entryway of the Riverview Event Center\, for a chance to win a prize! \nTwo drawings every week starting April 27th\, and the winner is announced on May 1st!
URL:https://jbleforcesupport.com/event/april-fools-day/2026-12-02/
LOCATION:Riverview Event Center\, 128 Benedict Ave
CATEGORIES:November
ATTACH;FMTTYPE=image/jpeg:https://jbleforcesupport.com/wp-content/uploads/2026/03/0401-0430-April-Fools-Day-Joke-Jar_web.jpg
END:VEVENT
BEGIN:VEVENT
DTSTART;TZID=UTC:20261203T080000
DTEND;TZID=UTC:20261203T170000
DTSTAMP:20260423T031047
CREATED:20260325T171723Z
LAST-MODIFIED:20260325T171736Z
UID:10008100-1796284800-1796317200@jbleforcesupport.com
SUMMARY:April Fools Day
DESCRIPTION:From April 1St to30th\, place your joke in the joke jar at the entryway of the Riverview Event Center\, for a chance to win a prize! \nTwo drawings every week starting April 27th\, and the winner is announced on May 1st!
URL:https://jbleforcesupport.com/event/april-fools-day/2026-12-03/
LOCATION:Riverview Event Center\, 128 Benedict Ave
CATEGORIES:November
ATTACH;FMTTYPE=image/jpeg:https://jbleforcesupport.com/wp-content/uploads/2026/03/0401-0430-April-Fools-Day-Joke-Jar_web.jpg
END:VEVENT
BEGIN:VEVENT
DTSTART;TZID=UTC:20261204T080000
DTEND;TZID=UTC:20261204T170000
DTSTAMP:20260423T031047
CREATED:20260325T171723Z
LAST-MODIFIED:20260325T171736Z
UID:10008101-1796371200-1796403600@jbleforcesupport.com
SUMMARY:April Fools Day
DESCRIPTION:From April 1St to30th\, place your joke in the joke jar at the entryway of the Riverview Event Center\, for a chance to win a prize! \nTwo drawings every week starting April 27th\, and the winner is announced on May 1st!
URL:https://jbleforcesupport.com/event/april-fools-day/2026-12-04/
LOCATION:Riverview Event Center\, 128 Benedict Ave
CATEGORIES:November
ATTACH;FMTTYPE=image/jpeg:https://jbleforcesupport.com/wp-content/uploads/2026/03/0401-0430-April-Fools-Day-Joke-Jar_web.jpg
END:VEVENT
BEGIN:VEVENT
DTSTART;TZID=UTC:20261205T080000
DTEND;TZID=UTC:20261205T170000
DTSTAMP:20260423T031047
CREATED:20260325T171723Z
LAST-MODIFIED:20260325T171736Z
UID:10008102-1796457600-1796490000@jbleforcesupport.com
SUMMARY:April Fools Day
DESCRIPTION:From April 1St to30th\, place your joke in the joke jar at the entryway of the Riverview Event Center\, for a chance to win a prize! \nTwo drawings every week starting April 27th\, and the winner is announced on May 1st!
URL:https://jbleforcesupport.com/event/april-fools-day/2026-12-05/
LOCATION:Riverview Event Center\, 128 Benedict Ave
CATEGORIES:November
ATTACH;FMTTYPE=image/jpeg:https://jbleforcesupport.com/wp-content/uploads/2026/03/0401-0430-April-Fools-Day-Joke-Jar_web.jpg
END:VEVENT
BEGIN:VEVENT
DTSTART;TZID=UTC:20261206T080000
DTEND;TZID=UTC:20261206T170000
DTSTAMP:20260423T031047
CREATED:20260325T171723Z
LAST-MODIFIED:20260325T171736Z
UID:10008103-1796544000-1796576400@jbleforcesupport.com
SUMMARY:April Fools Day
DESCRIPTION:From April 1St to30th\, place your joke in the joke jar at the entryway of the Riverview Event Center\, for a chance to win a prize! \nTwo drawings every week starting April 27th\, and the winner is announced on May 1st!
URL:https://jbleforcesupport.com/event/april-fools-day/2026-12-06/
LOCATION:Riverview Event Center\, 128 Benedict Ave
CATEGORIES:November
ATTACH;FMTTYPE=image/jpeg:https://jbleforcesupport.com/wp-content/uploads/2026/03/0401-0430-April-Fools-Day-Joke-Jar_web.jpg
END:VEVENT
BEGIN:VEVENT
DTSTART;TZID=UTC:20261207T080000
DTEND;TZID=UTC:20261207T170000
DTSTAMP:20260423T031047
CREATED:20260325T171723Z
LAST-MODIFIED:20260325T171736Z
UID:10008104-1796630400-1796662800@jbleforcesupport.com
SUMMARY:April Fools Day
DESCRIPTION:From April 1St to30th\, place your joke in the joke jar at the entryway of the Riverview Event Center\, for a chance to win a prize! \nTwo drawings every week starting April 27th\, and the winner is announced on May 1st!
URL:https://jbleforcesupport.com/event/april-fools-day/2026-12-07/
LOCATION:Riverview Event Center\, 128 Benedict Ave
CATEGORIES:November
ATTACH;FMTTYPE=image/jpeg:https://jbleforcesupport.com/wp-content/uploads/2026/03/0401-0430-April-Fools-Day-Joke-Jar_web.jpg
END:VEVENT
BEGIN:VEVENT
DTSTART;TZID=UTC:20261208T080000
DTEND;TZID=UTC:20261208T170000
DTSTAMP:20260423T031047
CREATED:20260325T171723Z
LAST-MODIFIED:20260325T171736Z
UID:10008105-1796716800-1796749200@jbleforcesupport.com
SUMMARY:April Fools Day
DESCRIPTION:From April 1St to30th\, place your joke in the joke jar at the entryway of the Riverview Event Center\, for a chance to win a prize! \nTwo drawings every week starting April 27th\, and the winner is announced on May 1st!
URL:https://jbleforcesupport.com/event/april-fools-day/2026-12-08/
LOCATION:Riverview Event Center\, 128 Benedict Ave
CATEGORIES:November
ATTACH;FMTTYPE=image/jpeg:https://jbleforcesupport.com/wp-content/uploads/2026/03/0401-0430-April-Fools-Day-Joke-Jar_web.jpg
END:VEVENT
BEGIN:VEVENT
DTSTART;TZID=UTC:20261209T080000
DTEND;TZID=UTC:20261209T170000
DTSTAMP:20260423T031047
CREATED:20260325T171723Z
LAST-MODIFIED:20260325T171736Z
UID:10008106-1796803200-1796835600@jbleforcesupport.com
SUMMARY:April Fools Day
DESCRIPTION:From April 1St to30th\, place your joke in the joke jar at the entryway of the Riverview Event Center\, for a chance to win a prize! \nTwo drawings every week starting April 27th\, and the winner is announced on May 1st!
URL:https://jbleforcesupport.com/event/april-fools-day/2026-12-09/
LOCATION:Riverview Event Center\, 128 Benedict Ave
CATEGORIES:November
ATTACH;FMTTYPE=image/jpeg:https://jbleforcesupport.com/wp-content/uploads/2026/03/0401-0430-April-Fools-Day-Joke-Jar_web.jpg
END:VEVENT
BEGIN:VEVENT
DTSTART;TZID=UTC:20261210T080000
DTEND;TZID=UTC:20261210T170000
DTSTAMP:20260423T031047
CREATED:20260325T171723Z
LAST-MODIFIED:20260325T171736Z
UID:10008107-1796889600-1796922000@jbleforcesupport.com
SUMMARY:April Fools Day
DESCRIPTION:From April 1St to30th\, place your joke in the joke jar at the entryway of the Riverview Event Center\, for a chance to win a prize! \nTwo drawings every week starting April 27th\, and the winner is announced on May 1st!
URL:https://jbleforcesupport.com/event/april-fools-day/2026-12-10/
LOCATION:Riverview Event Center\, 128 Benedict Ave
CATEGORIES:November
ATTACH;FMTTYPE=image/jpeg:https://jbleforcesupport.com/wp-content/uploads/2026/03/0401-0430-April-Fools-Day-Joke-Jar_web.jpg
END:VEVENT
BEGIN:VEVENT
DTSTART;TZID=UTC:20261211T080000
DTEND;TZID=UTC:20261211T170000
DTSTAMP:20260423T031047
CREATED:20260325T171723Z
LAST-MODIFIED:20260325T171736Z
UID:10008108-1796976000-1797008400@jbleforcesupport.com
SUMMARY:April Fools Day
DESCRIPTION:From April 1St to30th\, place your joke in the joke jar at the entryway of the Riverview Event Center\, for a chance to win a prize! \nTwo drawings every week starting April 27th\, and the winner is announced on May 1st!
URL:https://jbleforcesupport.com/event/april-fools-day/2026-12-11/
LOCATION:Riverview Event Center\, 128 Benedict Ave
CATEGORIES:November
ATTACH;FMTTYPE=image/jpeg:https://jbleforcesupport.com/wp-content/uploads/2026/03/0401-0430-April-Fools-Day-Joke-Jar_web.jpg
END:VEVENT
BEGIN:VEVENT
DTSTART;TZID=UTC:20261212T080000
DTEND;TZID=UTC:20261212T170000
DTSTAMP:20260423T031047
CREATED:20260325T171723Z
LAST-MODIFIED:20260325T171736Z
UID:10008109-1797062400-1797094800@jbleforcesupport.com
SUMMARY:April Fools Day
DESCRIPTION:From April 1St to30th\, place your joke in the joke jar at the entryway of the Riverview Event Center\, for a chance to win a prize! \nTwo drawings every week starting April 27th\, and the winner is announced on May 1st!
URL:https://jbleforcesupport.com/event/april-fools-day/2026-12-12/
LOCATION:Riverview Event Center\, 128 Benedict Ave
CATEGORIES:November
ATTACH;FMTTYPE=image/jpeg:https://jbleforcesupport.com/wp-content/uploads/2026/03/0401-0430-April-Fools-Day-Joke-Jar_web.jpg
END:VEVENT
END:VCALENDAR